BEGIN:VCALENDAR
VERSION:2.0
PRODID:-//Le Rebond - ECPv6.13.2.1//NONSGML v1.0//EN
CALSCALE:GREGORIAN
METHOD:PUBLISH
X-ORIGINAL-URL:https://le-rebond.net
X-WR-CALDESC:Évènements pour Le Rebond
REFRESH-INTERVAL;VALUE=DURATION:PT1H
X-Robots-Tag:noindex
X-PUBLISHED-TTL:PT1H
BEGIN:VTIMEZONE
TZID:America/Toronto
BEGIN:DAYLIGHT
TZOFFSETFROM:-0500
TZOFFSETTO:-0400
TZNAME:EDT
DTSTART:20250309T070000
END:DAYLIGHT
BEGIN:STANDARD
TZOFFSETFROM:-0400
TZOFFSETTO:-0500
TZNAME:EST
DTSTART:20251102T060000
END:STANDARD
END:VTIMEZONE
BEGIN:VEVENT
DTSTART;TZID=America/Toronto:20250710T140000
DTEND;TZID=America/Toronto:20250710T150000
DTSTAMP:20260421T135634
CREATED:20250710T143322Z
LAST-MODIFIED:20250710T143322Z
UID:10000055-1752156000-1752159600@le-rebond.net
SUMMARY:Sortie bubble-tea
DESCRIPTION:L’été dernier\, nous avons invité nos membres pour une petite sortie de quartier\, dans un salon de thé. À la demande populaire\, nous répétons l’expérience cette année. Venez égayer vos papilles gustatives et venez rafraîchir vos idées en dégustant un bubble tea\, cette boisson qui fait sensation sur les réseaux sociaux. Nous nous rendrons cette fois-ci à la sandwicherie Saming. Si vous souhaitez vous y rendre avec notre communauté\, un petit groupe partira du Rebond à 13h40.
URL:https://le-rebond.net/evenement/sortie-bubbletea-ete-2025/
LOCATION:Sandwicherie Saming\, 6595\, rue Saint-Hubert\, Montréal\, Québec\, Canada
CATEGORIES:Sorties
ATTACH;FMTTYPE=image/png:https://le-rebond.net/wp-content/uploads/2025/06/Plan-de-travail-37@2x.png
ORGANIZER;CN="Le Rebond":MAILTO:activites@le-rebond.net
END:VEVENT
END:VCALENDAR