BEGIN:VCALENDAR
VERSION:2.0
PRODID:-//Le Rebond - ECPv6.13.2.1//NONSGML v1.0//EN
CALSCALE:GREGORIAN
METHOD:PUBLISH
X-WR-CALNAME:Le Rebond
X-ORIGINAL-URL:https://le-rebond.net
X-WR-CALDESC:Évènements pour Le Rebond
REFRESH-INTERVAL;VALUE=DURATION:PT1H
X-Robots-Tag:noindex
X-PUBLISHED-TTL:PT1H
BEGIN:VTIMEZONE
TZID:America/Toronto
BEGIN:DAYLIGHT
TZOFFSETFROM:-0500
TZOFFSETTO:-0400
TZNAME:EDT
DTSTART:20250309T070000
END:DAYLIGHT
BEGIN:STANDARD
TZOFFSETFROM:-0400
TZOFFSETTO:-0500
TZNAME:EST
DTSTART:20251102T060000
END:STANDARD
END:VTIMEZONE
BEGIN:VEVENT
DTSTART;TZID=America/Toronto:20250729T133000
DTEND;TZID=America/Toronto:20250729T153000
DTSTAMP:20260421T091111
CREATED:20250929T171036Z
LAST-MODIFIED:20250929T171036Z
UID:10000422-1753795800-1753803000@le-rebond.net
SUMMARY:Ruche artisane
DESCRIPTION:C’est le retour de ce moment privilégié pour partager ensemble tout en s’occupant les mains! Apportez votre projet personnel de création\, que ce soit du tricot\, de la pyrogravure\, du collage\, du dessin\, du scrapbooking; en fait\, tout ce que vous aimeriez créer en groupe. Nous avons sur place une quantité phénoménale de matériel pour laisser aller votre imagination et nous sommes toujours ouvert.es aux projets collectifs. C’est aussi pendant cette rencontre qu’on se mobilise pour le projet d’envoi des cartes de souhait d’anniversaire à la communauté.
URL:https://le-rebond.net/evenement/ruche-artisane-ete-2025/2025-07-29/
LOCATION:Le Rebond\, 6510\, rue de Saint-Vallier\, Montréal\, Québec\, H2S 2P7\, Canada
CATEGORIES:Affirmation artistique
ATTACH;FMTTYPE=image/png:https://le-rebond.net/wp-content/uploads/2025/06/picto-orange-06.png
ORGANIZER;CN="Le Rebond":MAILTO:activites@le-rebond.net
END:VEVENT
END:VCALENDAR