BEGIN:VCALENDAR
VERSION:2.0
PRODID:-//Le Rebond - ECPv6.13.2.1//NONSGML v1.0//EN
CALSCALE:GREGORIAN
METHOD:PUBLISH
X-WR-CALNAME:Le Rebond
X-ORIGINAL-URL:https://le-rebond.net
X-WR-CALDESC:Évènements pour Le Rebond
REFRESH-INTERVAL;VALUE=DURATION:PT1H
X-Robots-Tag:noindex
X-PUBLISHED-TTL:PT1H
BEGIN:VTIMEZONE
TZID:America/Toronto
BEGIN:DAYLIGHT
TZOFFSETFROM:-0500
TZOFFSETTO:-0400
TZNAME:EDT
DTSTART:20250309T070000
END:DAYLIGHT
BEGIN:STANDARD
TZOFFSETFROM:-0400
TZOFFSETTO:-0500
TZNAME:EST
DTSTART:20251102T060000
END:STANDARD
END:VTIMEZONE
BEGIN:VEVENT
DTSTART;TZID=America/Toronto:20250731T180000
DTEND;TZID=America/Toronto:20250731T200000
DTSTAMP:20260421T091138
CREATED:20250710T151755Z
LAST-MODIFIED:20250710T151755Z
UID:10000102-1753984800-1753992000@le-rebond.net
SUMMARY:Sortie nocturne de bowling
DESCRIPTION:On poursuit cette sortie sociale très appréciée de nos membres! Le repas est également fourni à tous.tes les parti-cipant.es. Afin de ne pas empiéter sur l’organisation des co-animatrices\, la ponctualité est bien importante pour la tenue de ces sorties. Veuillez noter qu’un petit groupe part toujours du Rebond\, environ vingt minutes avant l’heure de l’activité. \nDans le but de diversifier les personnes qui participent à cette sortie\, toute inscription n’est pas signe de confirmation! Notre facilitatrice aux activités vous confirmera votre présence par téléphone ou par courriel la semaine de l’activité.
URL:https://le-rebond.net/evenement/bowling-ete-2025/2025-07-31/
LOCATION:Quilles G Plus\, 920\, rue Saint-Zotique Est\, Montréal\, Québec\, H2S 1M8\, Canada
CATEGORIES:Socialisation
ATTACH;FMTTYPE=image/png:https://le-rebond.net/wp-content/uploads/2025/06/Plan-de-travail-36-1.png
ORGANIZER;CN="Le Rebond":MAILTO:activites@le-rebond.net
END:VEVENT
END:VCALENDAR