BEGIN:VCALENDAR
VERSION:2.0
PRODID:-//Le Rebond - ECPv6.13.2.1//NONSGML v1.0//EN
CALSCALE:GREGORIAN
METHOD:PUBLISH
X-ORIGINAL-URL:https://le-rebond.net
X-WR-CALDESC:Évènements pour Le Rebond
REFRESH-INTERVAL;VALUE=DURATION:PT1H
X-Robots-Tag:noindex
X-PUBLISHED-TTL:PT1H
BEGIN:VTIMEZONE
TZID:America/Toronto
BEGIN:DAYLIGHT
TZOFFSETFROM:-0500
TZOFFSETTO:-0400
TZNAME:EDT
DTSTART:20250309T070000
END:DAYLIGHT
BEGIN:STANDARD
TZOFFSETFROM:-0400
TZOFFSETTO:-0500
TZNAME:EST
DTSTART:20251102T060000
END:STANDARD
END:VTIMEZONE
BEGIN:VEVENT
DTSTART;TZID=America/Toronto:20250904T133000
DTEND;TZID=America/Toronto:20250904T153000
DTSTAMP:20260421T091541
CREATED:20250710T135856Z
LAST-MODIFIED:20250710T140020Z
UID:10000011-1756992600-1756999800@le-rebond.net
SUMMARY:Le temps d'arrêt
DESCRIPTION:L'anxiété correspond à une émotion désagréable qui combine des symptômes physiques et des pensées opprimantes. Beaucoup d'entre nous en souffrent\, mais ne sont pas outillé.es ou accompagné.es pour mieux la contrôler. Afin de vous offrir un moment privilégié pour vous déposer et pour exprimer vos émotions\, nous vous offrons cet espace sécurisant ou sécuritaire.
URL:https://le-rebond.net/evenement/temps-arret-ete-2025/2025-09-04/
LOCATION:Le Rebond\, 6510\, rue de Saint-Vallier\, Montréal\, Québec\, H2S 2P7\, Canada
CATEGORIES:Reprise de pouvoir
ATTACH;FMTTYPE=image/png:https://le-rebond.net/wp-content/uploads/2025/06/Plan-de-travail-44.png
ORGANIZER;CN="Le Rebond":MAILTO:activites@le-rebond.net
END:VEVENT
BEGIN:VEVENT
DTSTART;TZID=America/Toronto:20250904T133000
DTEND;TZID=America/Toronto:20250904T153000
DTSTAMP:20260421T091541
CREATED:20250710T143552Z
LAST-MODIFIED:20250710T143552Z
UID:10000058-1756992600-1756999800@le-rebond.net
SUMMARY:Karaoké du Rebond
DESCRIPTION:Suite au succès des dernières saisons\, le karaoké du Rebond revient en force\, deux fois par mois. Rejoignez les chanteur.ses du Rebond et venez vous époumoner sur des airs populaires! Nous prenons le temps de dire qu’il n’est pas du tout nécessaire de savoir chanter\, l’important est de savoir avoir du plaisir en groupe! Nous avons aussi\, depuis le printemps\, un tout nouveau système de son qui vous permettra de vous sentir\, le temps d’une chanson\, comme une véritable star de scène.
URL:https://le-rebond.net/evenement/karaoke-rebond-ete-2025/2025-09-04/
LOCATION:Le Rebond\, 6510\, rue de Saint-Vallier\, Montréal\, Québec\, H2S 2P7\, Canada
CATEGORIES:Affirmation artistique,Socialisation
ATTACH;FMTTYPE=image/png:https://le-rebond.net/wp-content/uploads/2025/06/Plan-de-travail-36.png
ORGANIZER;CN="Le Rebond":MAILTO:activites@le-rebond.net
END:VEVENT
BEGIN:VEVENT
DTSTART;TZID=America/Toronto:20250904T133000
DTEND;TZID=America/Toronto:20250904T153000
DTSTAMP:20260421T091541
CREATED:20250929T163350Z
LAST-MODIFIED:20250929T163350Z
UID:10000139-1756992600-1756999800@le-rebond.net
SUMMARY:Berceau de bienveillance
DESCRIPTION:Ensemble\, nous prenons soin de la qualité de nos relations et de notre vie communautaire\, en réfléchissant sur comment préserver la bienveillance\, l’harmonie et l’entraide entre tout un chacun. Chaque membre qui vit une situation de malaise relationnel lors d’une activité ou d’une présence au Rebond peut venir en parler ouvertement lors du berceau.
URL:https://le-rebond.net/evenement/berceau-bienveillance-ete-2025/2025-09-04/
LOCATION:Le Rebond\, 6510\, rue de Saint-Vallier\, Montréal\, Québec\, H2S 2P7\, Canada
CATEGORIES:Reprise de pouvoir
ATTACH;FMTTYPE=image/png:https://le-rebond.net/wp-content/uploads/2025/06/Plan-de-travail-42@3x.png
ORGANIZER;CN="Le Rebond":MAILTO:activites@le-rebond.net
END:VEVENT
END:VCALENDAR