BEGIN:VCALENDAR
VERSION:2.0
PRODID:-//Le Rebond - ECPv6.13.2.1//NONSGML v1.0//EN
CALSCALE:GREGORIAN
METHOD:PUBLISH
X-WR-CALNAME:Le Rebond
X-ORIGINAL-URL:https://le-rebond.net
X-WR-CALDESC:Évènements pour Le Rebond
REFRESH-INTERVAL;VALUE=DURATION:PT1H
X-Robots-Tag:noindex
X-PUBLISHED-TTL:PT1H
BEGIN:VTIMEZONE
TZID:America/Toronto
BEGIN:DAYLIGHT
TZOFFSETFROM:-0500
TZOFFSETTO:-0400
TZNAME:EDT
DTSTART:20260308T070000
END:DAYLIGHT
BEGIN:STANDARD
TZOFFSETFROM:-0400
TZOFFSETTO:-0500
TZNAME:EST
DTSTART:20261101T060000
END:STANDARD
END:VTIMEZONE
BEGIN:VEVENT
DTSTART;TZID=America/Toronto:20260106T133000
DTEND;TZID=America/Toronto:20260106T153000
DTSTAMP:20260423T093941
CREATED:20260108T160014Z
LAST-MODIFIED:20260108T160253Z
UID:10000508-1767706200-1767713400@le-rebond.net
SUMMARY:Acupuncture sociale
DESCRIPTION:Grâce à l’implication de notre très chère acupunctrice\, Viviane Labelle\, nous sommes bien content·es de vous annoncer le retour des séances d’acupuncture régulières pendant toute l’hiver. Dans une atmosphère propice à la guérison\, expérimentez le protocole NADA\, cette méthode standardisée qui se concentre sur des points à oreille\, et ses multiples effets bénéfiques sur le corps et l’esprit. Nous recommandons fortement une participation régulière pour des résultats plus constants!
URL:https://le-rebond.net/evenement/acupuncture-sociale-hiver-2026/2026-01-06/
LOCATION:Le Rebond\, 6510\, rue de Saint-Vallier\, Montréal\, Québec\, H2S 2P7\, Canada
CATEGORIES:Reprise de pouvoir
ATTACH;FMTTYPE=image/png:https://le-rebond.net/wp-content/uploads/2025/06/Plan-de-travail-42@2x-.png
ORGANIZER;CN="Le Rebond":MAILTO:activites@le-rebond.net
END:VEVENT
BEGIN:VEVENT
DTSTART;TZID=America/Toronto:20260107T133000
DTEND;TZID=America/Toronto:20260107T153000
DTSTAMP:20260423T093941
CREATED:20260108T165649Z
LAST-MODIFIED:20260108T165649Z
UID:10000568-1767792600-1767799800@le-rebond.net
SUMMARY:Percepteurs de sens
DESCRIPTION:Si vous entendez des voix ou si vous ressentez d’autres perceptions sensorielles et que vous souhaitez apprendre à mieux vivre avec celles-ci\, venez partager et échanger avec nous. Ce groupe de parole fait partie des piliers du Rebond et met en place un environnement accueillant dans lequel vous pouvez dialoguer librement autour du phénomène\, sans jugement et sans préjudices. Les personnes qui participent pour la première fois au groupe sont invitées à se joindre en deuxième partie\, dès 14h30\, après quoi l’activité est libre d’accès.
URL:https://le-rebond.net/evenement/percepteurs-sens-hiver-2026/2026-01-07/
LOCATION:Le Rebond\, 6510\, rue de Saint-Vallier\, Montréal\, Québec\, H2S 2P7\, Canada
CATEGORIES:Reprise de pouvoir
ATTACH;FMTTYPE=image/png:https://le-rebond.net/wp-content/uploads/2025/06/picto-orange-04.png
ORGANIZER;CN="Le Rebond":MAILTO:activites@le-rebond.net
END:VEVENT
BEGIN:VEVENT
DTSTART;TZID=America/Toronto:20260108T133000
DTEND;TZID=America/Toronto:20260108T153000
DTSTAMP:20260423T093941
CREATED:20260108T170729Z
LAST-MODIFIED:20260108T170729Z
UID:10000595-1767879000-1767886200@le-rebond.net
SUMMARY:Berceau de bienveillance
DESCRIPTION:Ensemble\, nous prenons soin de la qualité de nos relations et de notre vie communautaire\, en réfléchissant sur comment préserver la bienveillance et l’entraide entre tout un chacun. Chaque membre qui vit une situation de malaise relationnel lors d’une activité ou d’une présence au Rebond peut venir en parler ouvertement lors du berceau\, et ce\, bien sûr\, dans le respect des personnes concernées. Contrairement au comité d’harmonisation\, qui réfléchit sur nos pratiques\, le Berceau de bienveillance est un groupe de parole où on peut déposer ses émotions et ses ressentis vis-à-vis d’une situation.
URL:https://le-rebond.net/evenement/berceau-bienveillance-hiver-2026/2026-01-08/
LOCATION:Le Rebond\, 6510\, rue de Saint-Vallier\, Montréal\, Québec\, H2S 2P7\, Canada
CATEGORIES:Reprise de pouvoir
ATTACH;FMTTYPE=image/png:https://le-rebond.net/wp-content/uploads/2025/06/Plan-de-travail-42@3x.png
ORGANIZER;CN="Le Rebond":MAILTO:activites@le-rebond.net
END:VEVENT
BEGIN:VEVENT
DTSTART;TZID=America/Toronto:20260113T133000
DTEND;TZID=America/Toronto:20260113T153000
DTSTAMP:20260423T093941
CREATED:20260108T160014Z
LAST-MODIFIED:20260108T160253Z
UID:10000509-1768311000-1768318200@le-rebond.net
SUMMARY:Acupuncture sociale
DESCRIPTION:Grâce à l’implication de notre très chère acupunctrice\, Viviane Labelle\, nous sommes bien content·es de vous annoncer le retour des séances d’acupuncture régulières pendant toute l’hiver. Dans une atmosphère propice à la guérison\, expérimentez le protocole NADA\, cette méthode standardisée qui se concentre sur des points à oreille\, et ses multiples effets bénéfiques sur le corps et l’esprit. Nous recommandons fortement une participation régulière pour des résultats plus constants!
URL:https://le-rebond.net/evenement/acupuncture-sociale-hiver-2026/2026-01-13/
LOCATION:Le Rebond\, 6510\, rue de Saint-Vallier\, Montréal\, Québec\, H2S 2P7\, Canada
CATEGORIES:Reprise de pouvoir
ATTACH;FMTTYPE=image/png:https://le-rebond.net/wp-content/uploads/2025/06/Plan-de-travail-42@2x-.png
ORGANIZER;CN="Le Rebond":MAILTO:activites@le-rebond.net
END:VEVENT
BEGIN:VEVENT
DTSTART;TZID=America/Toronto:20260114T133000
DTEND;TZID=America/Toronto:20260114T153000
DTSTAMP:20260423T093941
CREATED:20260108T165924Z
LAST-MODIFIED:20260108T165924Z
UID:10000579-1768397400-1768404600@le-rebond.net
SUMMARY:Dialogue sur la spiritualité
DESCRIPTION:Sous la forme d’un groupe d’entraide et dans l’esprit du dialogue\, soutenu par un espace sécuritaire et au rythme de chacun·e\, nous échangerons ensemble de notre spiritualité\, définie comme étant l’art de transformer les expériences de vie en occasion de croissance et d’éveil. Si vous portez en vous le besoin de ritualiser un passage de votre vie (par exemple : deuil)\, nous prendrons le temps en groupe de vous accompagner afin de réaliser cet acte sacré selon vos valeurs et vos croyances. \nEn deuxième partie\, nous parlerons du design humain\, concept par lequel on peut trouver la clef de notre évolution\, de notre résilience\, de nos capacités et de nos réalisations. Comme un voyage intérieur\, nous explorerons notre code vivant et notre conscience\, afin de nous éveiller à notre plus haut potentiel.
URL:https://le-rebond.net/evenement/dialogue-spiritualite-hiver-2026/2026-01-14/
LOCATION:Le Rebond\, 6510\, rue de Saint-Vallier\, Montréal\, Québec\, H2S 2P7\, Canada
CATEGORIES:Reprise de pouvoir
ATTACH;FMTTYPE=image/png:https://le-rebond.net/wp-content/uploads/2025/06/Plan-de-travail-3700.png
ORGANIZER;CN="Le Rebond":MAILTO:activites@le-rebond.net
END:VEVENT
BEGIN:VEVENT
DTSTART;TZID=America/Toronto:20260115T133000
DTEND;TZID=America/Toronto:20260115T153000
DTSTAMP:20260423T093941
CREATED:20260108T171349Z
LAST-MODIFIED:20260108T171349Z
UID:10000614-1768483800-1768491000@le-rebond.net
SUMMARY:Groupe de parole AJS
DESCRIPTION:Si vous êtes sur une autorisation judiciaire de soins et que vous aimeriez échanger sur ce que vous éprouvez face à cette situation\, ou encore si vous voulez mieux vous préparer à reprendre stratégiquement du pouvoir\, venez rejoindre le groupe d'entraide. Les rencontres sont tenues exclusivement de façon virtuelle\, via la plateforme Zoom. L'inscription est demandée et\, dans le but de préserver une bonne culture groupale\, il se peut qu’on contacte les nouvelles personnes intéressées à joindre le groupe pour cibler leurs besoins et leurs intentions.
URL:https://le-rebond.net/evenement/groupe-ajs-hiver-2026/2026-01-15/
LOCATION:Sur Zoom
CATEGORIES:Reprise de pouvoir
ATTACH;FMTTYPE=image/png:https://le-rebond.net/wp-content/uploads/2025/06/Plan-de-travail-29@2x.png
ORGANIZER;CN="Le Rebond":MAILTO:activites@le-rebond.net
END:VEVENT
BEGIN:VEVENT
DTSTART;TZID=America/Toronto:20260119T110000
DTEND;TZID=America/Toronto:20260119T130000
DTSTAMP:20260423T093941
CREATED:20260108T161439Z
LAST-MODIFIED:20260108T170019Z
UID:10000548-1768820400-1768827600@le-rebond.net
SUMMARY:Comité d'harmonisation
DESCRIPTION:La vie de groupe peut générer toutes sortes d’inconforts et de malaises. Dans l’objectif de mettre en place un environnement sécurisant et sécuritaire pour les membres qui nous côtoient\, il est pertinent de réfléchir sur les bonnes façons de faire. Comment adresser un conflit relationnel? Comment gérer les éléments perturbateurs dans un groupe? Comment les notions du care et de l’empathie s’appliquent-elles chez nous? Comment prendre soin du « nous »? Si ces questions vous allument\, rejoignez le comité d’harmonisation.
URL:https://le-rebond.net/evenement/comite-harmonisation-hiver-2026/2026-01-19/
LOCATION:Le Rebond\, 6510\, rue de Saint-Vallier\, Montréal\, Québec\, H2S 2P7\, Canada
CATEGORIES:Reprise de pouvoir
ATTACH;FMTTYPE=image/png:https://le-rebond.net/wp-content/uploads/2025/06/Plan-de-travail-35-1.png
ORGANIZER;CN="Le Rebond":MAILTO:activites@le-rebond.net
END:VEVENT
BEGIN:VEVENT
DTSTART;TZID=America/Toronto:20260119T133000
DTEND;TZID=America/Toronto:20260119T153000
DTSTAMP:20260423T093941
CREATED:20260108T165343Z
LAST-MODIFIED:20260108T165343Z
UID:10000558-1768829400-1768836600@le-rebond.net
SUMMARY:Groupe de parole TAC
DESCRIPTION:Ce groupe s’adresse aux personnes qui accumulent des quantités impressionnantes d’objets\, qui souffrent de cet encombrement et qui se sentent isolées de leur entourage en raison de la honte ressentie. Venez partager votre expérience du phénomène avec des personnes qui vivent les mêmes enjeux et qui peuvent comprendre ce que vous ressentez. Cette activité se déroule exclusivement sur Zoom pour l’hiver. \nLe groupe de parole a besoin de relève. Nous aimerions éventuellement ramener l’activité dans nos locaux (en mode hybride) et nous cherchons des personnes intéressées à prendre en charge la co-animation et la co-organisation.
URL:https://le-rebond.net/evenement/groupe-tac-hiver-2026/2026-01-19/
LOCATION:Sur Zoom
CATEGORIES:Reprise de pouvoir
ATTACH;FMTTYPE=image/png:https://le-rebond.net/wp-content/uploads/2025/06/picto-orange-05.png
ORGANIZER;CN="Le Rebond":MAILTO:activites@le-rebond.net
END:VEVENT
BEGIN:VEVENT
DTSTART;TZID=America/Toronto:20260120T133000
DTEND;TZID=America/Toronto:20260120T153000
DTSTAMP:20260423T093941
CREATED:20260108T160014Z
LAST-MODIFIED:20260108T160253Z
UID:10000510-1768915800-1768923000@le-rebond.net
SUMMARY:Acupuncture sociale
DESCRIPTION:Grâce à l’implication de notre très chère acupunctrice\, Viviane Labelle\, nous sommes bien content·es de vous annoncer le retour des séances d’acupuncture régulières pendant toute l’hiver. Dans une atmosphère propice à la guérison\, expérimentez le protocole NADA\, cette méthode standardisée qui se concentre sur des points à oreille\, et ses multiples effets bénéfiques sur le corps et l’esprit. Nous recommandons fortement une participation régulière pour des résultats plus constants!
URL:https://le-rebond.net/evenement/acupuncture-sociale-hiver-2026/2026-01-20/
LOCATION:Le Rebond\, 6510\, rue de Saint-Vallier\, Montréal\, Québec\, H2S 2P7\, Canada
CATEGORIES:Reprise de pouvoir
ATTACH;FMTTYPE=image/png:https://le-rebond.net/wp-content/uploads/2025/06/Plan-de-travail-42@2x-.png
ORGANIZER;CN="Le Rebond":MAILTO:activites@le-rebond.net
END:VEVENT
BEGIN:VEVENT
DTSTART;TZID=America/Toronto:20260121T110000
DTEND;TZID=America/Toronto:20260121T130000
DTSTAMP:20260423T093941
CREATED:20260108T170340Z
LAST-MODIFIED:20260108T170340Z
UID:10000585-1768993200-1769000400@le-rebond.net
SUMMARY:Lunch de la co-animation
DESCRIPTION:Pour consolider le savoir des membres\, nous invitons toutes les personnes qui participent à la co-animation à se réunir et à échanger autour de leur expérience. L’objectif de cette rencontre est de trouver ensemble des outils pour prévenir et pour adresser les situations d’inconfort pouvant survenir dans le cadre des activités. Autour d’un lunch\, les co-animateur·ices pourront bénéficier de la force de l’entraide pour ainsi être plus confiant·es lors de leur(s) implication(s). \nCette rencontre est obligatoire pour toutes les personnes qui co-animent\, mais les portes sont ouvertes pour toutes les autres qui souhaiteraient éventuellement s’impliquer.
URL:https://le-rebond.net/evenement/lunch-coanimation-hiver-2026/
LOCATION:Le Rebond\, 6510\, rue de Saint-Vallier\, Montréal\, Québec\, H2S 2P7\, Canada
CATEGORIES:Activités spéciales,Reprise de pouvoir
ATTACH;FMTTYPE=image/png:https://le-rebond.net/wp-content/uploads/2026/01/Plan-de-travail-64@2x.png
ORGANIZER;CN="Le Rebond":MAILTO:activites@le-rebond.net
END:VEVENT
BEGIN:VEVENT
DTSTART;TZID=America/Toronto:20260121T133000
DTEND;TZID=America/Toronto:20260121T153000
DTSTAMP:20260423T093941
CREATED:20260108T165649Z
LAST-MODIFIED:20260108T165649Z
UID:10000569-1769002200-1769009400@le-rebond.net
SUMMARY:Percepteurs de sens
DESCRIPTION:Si vous entendez des voix ou si vous ressentez d’autres perceptions sensorielles et que vous souhaitez apprendre à mieux vivre avec celles-ci\, venez partager et échanger avec nous. Ce groupe de parole fait partie des piliers du Rebond et met en place un environnement accueillant dans lequel vous pouvez dialoguer librement autour du phénomène\, sans jugement et sans préjudices. Les personnes qui participent pour la première fois au groupe sont invitées à se joindre en deuxième partie\, dès 14h30\, après quoi l’activité est libre d’accès.
URL:https://le-rebond.net/evenement/percepteurs-sens-hiver-2026/2026-01-21/
LOCATION:Le Rebond\, 6510\, rue de Saint-Vallier\, Montréal\, Québec\, H2S 2P7\, Canada
CATEGORIES:Reprise de pouvoir
ATTACH;FMTTYPE=image/png:https://le-rebond.net/wp-content/uploads/2025/06/picto-orange-04.png
ORGANIZER;CN="Le Rebond":MAILTO:activites@le-rebond.net
END:VEVENT
BEGIN:VEVENT
DTSTART;TZID=America/Toronto:20260122T133000
DTEND;TZID=America/Toronto:20260122T153000
DTSTAMP:20260423T093941
CREATED:20260108T171056Z
LAST-MODIFIED:20260108T171056Z
UID:10000607-1769088600-1769095800@le-rebond.net
SUMMARY:Le temps d'arrêt
DESCRIPTION:L'anxiété correspond à une émotion désagréable qui combine des symptômes physiques et des pensées opprimantes. Beaucoup d'entre nous en souffrent\, mais ne sont pas outillé·es ou accompagné·es pour mieux la contrôler. Afin de vous offrir un moment privilégié pour vous déposer et pour exprimer vos émotions\, nous vous offrons cet espace chaleureux de partage. Pour reprendre la tradition des cafés-jasettes\, des viennoiseries sont offertes aux participant·es de cette activité.
URL:https://le-rebond.net/evenement/temps-arret-hiver-2026/2026-01-22/
LOCATION:Le Rebond\, 6510\, rue de Saint-Vallier\, Montréal\, Québec\, H2S 2P7\, Canada
CATEGORIES:Reprise de pouvoir
ATTACH;FMTTYPE=image/png:https://le-rebond.net/wp-content/uploads/2025/06/Plan-de-travail-44.png
ORGANIZER;CN="Le Rebond":MAILTO:activites@le-rebond.net
END:VEVENT
BEGIN:VEVENT
DTSTART;TZID=America/Toronto:20260127T133000
DTEND;TZID=America/Toronto:20260127T153000
DTSTAMP:20260423T093941
CREATED:20260108T160014Z
LAST-MODIFIED:20260108T160253Z
UID:10000511-1769520600-1769527800@le-rebond.net
SUMMARY:Acupuncture sociale
DESCRIPTION:Grâce à l’implication de notre très chère acupunctrice\, Viviane Labelle\, nous sommes bien content·es de vous annoncer le retour des séances d’acupuncture régulières pendant toute l’hiver. Dans une atmosphère propice à la guérison\, expérimentez le protocole NADA\, cette méthode standardisée qui se concentre sur des points à oreille\, et ses multiples effets bénéfiques sur le corps et l’esprit. Nous recommandons fortement une participation régulière pour des résultats plus constants!
URL:https://le-rebond.net/evenement/acupuncture-sociale-hiver-2026/2026-01-27/
LOCATION:Le Rebond\, 6510\, rue de Saint-Vallier\, Montréal\, Québec\, H2S 2P7\, Canada
CATEGORIES:Reprise de pouvoir
ATTACH;FMTTYPE=image/png:https://le-rebond.net/wp-content/uploads/2025/06/Plan-de-travail-42@2x-.png
ORGANIZER;CN="Le Rebond":MAILTO:activites@le-rebond.net
END:VEVENT
BEGIN:VEVENT
DTSTART;TZID=America/Toronto:20260128T110000
DTEND;TZID=America/Toronto:20260128T130000
DTSTAMP:20260423T093941
CREATED:20260108T170527Z
LAST-MODIFIED:20260108T170527Z
UID:10000589-1769598000-1769605200@le-rebond.net
SUMMARY:Aide informatique
DESCRIPTION:Avec l’aide d’une personne qui connait bien l’univers informatique\, nous vous offrons de nouveau des plages-horaires pour les membres ayant des questionnements sur les ordinateurs\, les tablettes et les téléphones intelligents. L’activité n’est pas un atelier mais plutôt une occasion d’avoir des réponses à vos questions et à vos inquiétudes liées au monde informatique.  Apportez avec vous vos appareils portatifs! \nAfin d’offrir au maximum de personnes intéressées la chance de participer à cette activité\, il est important de bien s’inscrire à l’avance afin qu’on vous attribue une plage-horaire dédiée. Vous aurez entre 30 et 45 minutes par séance.
URL:https://le-rebond.net/evenement/aide-informatique-hiver-2026/2026-01-28/
LOCATION:Le Rebond\, 6510\, rue de Saint-Vallier\, Montréal\, Québec\, H2S 2P7\, Canada
CATEGORIES:Reprise de pouvoir
ATTACH;FMTTYPE=image/png:https://le-rebond.net/wp-content/uploads/2025/05/Ordinateur_Rebond.png
ORGANIZER;CN="Le Rebond":MAILTO:activites@le-rebond.net
END:VEVENT
BEGIN:VEVENT
DTSTART;TZID=America/Toronto:20260128T133000
DTEND;TZID=America/Toronto:20260128T153000
DTSTAMP:20260423T093941
CREATED:20260108T165924Z
LAST-MODIFIED:20260108T165924Z
UID:10000580-1769607000-1769614200@le-rebond.net
SUMMARY:Dialogue sur la spiritualité
DESCRIPTION:Sous la forme d’un groupe d’entraide et dans l’esprit du dialogue\, soutenu par un espace sécuritaire et au rythme de chacun·e\, nous échangerons ensemble de notre spiritualité\, définie comme étant l’art de transformer les expériences de vie en occasion de croissance et d’éveil. Si vous portez en vous le besoin de ritualiser un passage de votre vie (par exemple : deuil)\, nous prendrons le temps en groupe de vous accompagner afin de réaliser cet acte sacré selon vos valeurs et vos croyances. \nEn deuxième partie\, nous parlerons du design humain\, concept par lequel on peut trouver la clef de notre évolution\, de notre résilience\, de nos capacités et de nos réalisations. Comme un voyage intérieur\, nous explorerons notre code vivant et notre conscience\, afin de nous éveiller à notre plus haut potentiel.
URL:https://le-rebond.net/evenement/dialogue-spiritualite-hiver-2026/2026-01-28/
LOCATION:Le Rebond\, 6510\, rue de Saint-Vallier\, Montréal\, Québec\, H2S 2P7\, Canada
CATEGORIES:Reprise de pouvoir
ATTACH;FMTTYPE=image/png:https://le-rebond.net/wp-content/uploads/2025/06/Plan-de-travail-3700.png
ORGANIZER;CN="Le Rebond":MAILTO:activites@le-rebond.net
END:VEVENT
END:VCALENDAR