BEGIN:VCALENDAR
VERSION:2.0
PRODID:-//Le Rebond - ECPv6.13.2.1//NONSGML v1.0//EN
CALSCALE:GREGORIAN
METHOD:PUBLISH
X-WR-CALNAME:Le Rebond
X-ORIGINAL-URL:https://le-rebond.net
X-WR-CALDESC:Évènements pour Le Rebond
REFRESH-INTERVAL;VALUE=DURATION:PT1H
X-Robots-Tag:noindex
X-PUBLISHED-TTL:PT1H
BEGIN:VTIMEZONE
TZID:America/Toronto
BEGIN:DAYLIGHT
TZOFFSETFROM:-0500
TZOFFSETTO:-0400
TZNAME:EDT
DTSTART:20260308T070000
END:DAYLIGHT
BEGIN:STANDARD
TZOFFSETFROM:-0400
TZOFFSETTO:-0500
TZNAME:EST
DTSTART:20261101T060000
END:STANDARD
END:VTIMEZONE
BEGIN:VEVENT
DTSTART;TZID=America/Toronto:20260302T133000
DTEND;TZID=America/Toronto:20260302T153000
DTSTAMP:20260423T064109
CREATED:20260108T165343Z
LAST-MODIFIED:20260108T165343Z
UID:10000561-1772458200-1772465400@le-rebond.net
SUMMARY:Groupe de parole TAC
DESCRIPTION:Ce groupe s’adresse aux personnes qui accumulent des quantités impressionnantes d’objets\, qui souffrent de cet encombrement et qui se sentent isolées de leur entourage en raison de la honte ressentie. Venez partager votre expérience du phénomène avec des personnes qui vivent les mêmes enjeux et qui peuvent comprendre ce que vous ressentez. Cette activité se déroule exclusivement sur Zoom pour l’hiver. \nLe groupe de parole a besoin de relève. Nous aimerions éventuellement ramener l’activité dans nos locaux (en mode hybride) et nous cherchons des personnes intéressées à prendre en charge la co-animation et la co-organisation.
URL:https://le-rebond.net/evenement/groupe-tac-hiver-2026/2026-03-02/
LOCATION:Sur Zoom
CATEGORIES:Reprise de pouvoir
ATTACH;FMTTYPE=image/png:https://le-rebond.net/wp-content/uploads/2025/06/picto-orange-05.png
ORGANIZER;CN="Le Rebond":MAILTO:activites@le-rebond.net
END:VEVENT
BEGIN:VEVENT
DTSTART;TZID=America/Toronto:20260303T133000
DTEND;TZID=America/Toronto:20260303T153000
DTSTAMP:20260423T064109
CREATED:20260108T160014Z
LAST-MODIFIED:20260108T160253Z
UID:10000516-1772544600-1772551800@le-rebond.net
SUMMARY:Acupuncture sociale
DESCRIPTION:Grâce à l’implication de notre très chère acupunctrice\, Viviane Labelle\, nous sommes bien content·es de vous annoncer le retour des séances d’acupuncture régulières pendant toute l’hiver. Dans une atmosphère propice à la guérison\, expérimentez le protocole NADA\, cette méthode standardisée qui se concentre sur des points à oreille\, et ses multiples effets bénéfiques sur le corps et l’esprit. Nous recommandons fortement une participation régulière pour des résultats plus constants!
URL:https://le-rebond.net/evenement/acupuncture-sociale-hiver-2026/2026-03-03/
LOCATION:Le Rebond\, 6510\, rue de Saint-Vallier\, Montréal\, Québec\, H2S 2P7\, Canada
CATEGORIES:Reprise de pouvoir
ATTACH;FMTTYPE=image/png:https://le-rebond.net/wp-content/uploads/2025/06/Plan-de-travail-42@2x-.png
ORGANIZER;CN="Le Rebond":MAILTO:activites@le-rebond.net
END:VEVENT
BEGIN:VEVENT
DTSTART;TZID=America/Toronto:20260304T133000
DTEND;TZID=America/Toronto:20260304T153000
DTSTAMP:20260423T064109
CREATED:20260108T165649Z
LAST-MODIFIED:20260108T165649Z
UID:10000572-1772631000-1772638200@le-rebond.net
SUMMARY:Percepteurs de sens
DESCRIPTION:Si vous entendez des voix ou si vous ressentez d’autres perceptions sensorielles et que vous souhaitez apprendre à mieux vivre avec celles-ci\, venez partager et échanger avec nous. Ce groupe de parole fait partie des piliers du Rebond et met en place un environnement accueillant dans lequel vous pouvez dialoguer librement autour du phénomène\, sans jugement et sans préjudices. Les personnes qui participent pour la première fois au groupe sont invitées à se joindre en deuxième partie\, dès 14h30\, après quoi l’activité est libre d’accès.
URL:https://le-rebond.net/evenement/percepteurs-sens-hiver-2026/2026-03-04/
LOCATION:Le Rebond\, 6510\, rue de Saint-Vallier\, Montréal\, Québec\, H2S 2P7\, Canada
CATEGORIES:Reprise de pouvoir
ATTACH;FMTTYPE=image/png:https://le-rebond.net/wp-content/uploads/2025/06/picto-orange-04.png
ORGANIZER;CN="Le Rebond":MAILTO:activites@le-rebond.net
END:VEVENT
BEGIN:VEVENT
DTSTART;TZID=America/Toronto:20260305T100000
DTEND;TZID=America/Toronto:20260305T120000
DTSTAMP:20260423T064109
CREATED:20260108T171349Z
LAST-MODIFIED:20260108T171349Z
UID:10000617-1772704800-1772712000@le-rebond.net
SUMMARY:Groupe de parole AJS
DESCRIPTION:Si vous êtes sur une autorisation judiciaire de soins et que vous aimeriez échanger sur ce que vous éprouvez face à cette situation\, ou encore si vous voulez mieux vous préparer à reprendre stratégiquement du pouvoir\, venez rejoindre le groupe d'entraide. Les rencontres sont tenues exclusivement de façon virtuelle\, via la plateforme Zoom. L'inscription est demandée et\, dans le but de préserver une bonne culture groupale\, il se peut qu’on contacte les nouvelles personnes intéressées à joindre le groupe pour cibler leurs besoins et leurs intentions.
URL:https://le-rebond.net/evenement/groupe-ajs-hiver-2026/2026-03-05/
LOCATION:Sur Zoom
CATEGORIES:Reprise de pouvoir
ATTACH;FMTTYPE=image/png:https://le-rebond.net/wp-content/uploads/2025/06/Plan-de-travail-29@2x.png
ORGANIZER;CN="Le Rebond":MAILTO:activites@le-rebond.net
END:VEVENT
BEGIN:VEVENT
DTSTART;TZID=America/Toronto:20260309T110000
DTEND;TZID=America/Toronto:20260309T130000
DTSTAMP:20260423T064109
CREATED:20260108T161439Z
LAST-MODIFIED:20260108T170019Z
UID:10000550-1773054000-1773061200@le-rebond.net
SUMMARY:Comité d'harmonisation
DESCRIPTION:La vie de groupe peut générer toutes sortes d’inconforts et de malaises. Dans l’objectif de mettre en place un environnement sécurisant et sécuritaire pour les membres qui nous côtoient\, il est pertinent de réfléchir sur les bonnes façons de faire. Comment adresser un conflit relationnel? Comment gérer les éléments perturbateurs dans un groupe? Comment les notions du care et de l’empathie s’appliquent-elles chez nous? Comment prendre soin du « nous »? Si ces questions vous allument\, rejoignez le comité d’harmonisation.
URL:https://le-rebond.net/evenement/comite-harmonisation-hiver-2026/2026-03-09/
LOCATION:Le Rebond\, 6510\, rue de Saint-Vallier\, Montréal\, Québec\, H2S 2P7\, Canada
CATEGORIES:Reprise de pouvoir
ATTACH;FMTTYPE=image/png:https://le-rebond.net/wp-content/uploads/2025/06/Plan-de-travail-35-1.png
ORGANIZER;CN="Le Rebond":MAILTO:activites@le-rebond.net
END:VEVENT
BEGIN:VEVENT
DTSTART;TZID=America/Toronto:20260310T133000
DTEND;TZID=America/Toronto:20260310T153000
DTSTAMP:20260423T064109
CREATED:20260108T160014Z
LAST-MODIFIED:20260108T160253Z
UID:10000517-1773149400-1773156600@le-rebond.net
SUMMARY:Acupuncture sociale
DESCRIPTION:Grâce à l’implication de notre très chère acupunctrice\, Viviane Labelle\, nous sommes bien content·es de vous annoncer le retour des séances d’acupuncture régulières pendant toute l’hiver. Dans une atmosphère propice à la guérison\, expérimentez le protocole NADA\, cette méthode standardisée qui se concentre sur des points à oreille\, et ses multiples effets bénéfiques sur le corps et l’esprit. Nous recommandons fortement une participation régulière pour des résultats plus constants!
URL:https://le-rebond.net/evenement/acupuncture-sociale-hiver-2026/2026-03-10/
LOCATION:Le Rebond\, 6510\, rue de Saint-Vallier\, Montréal\, Québec\, H2S 2P7\, Canada
CATEGORIES:Reprise de pouvoir
ATTACH;FMTTYPE=image/png:https://le-rebond.net/wp-content/uploads/2025/06/Plan-de-travail-42@2x-.png
ORGANIZER;CN="Le Rebond":MAILTO:activites@le-rebond.net
END:VEVENT
BEGIN:VEVENT
DTSTART;TZID=America/Toronto:20260311T133000
DTEND;TZID=America/Toronto:20260311T153000
DTSTAMP:20260423T064109
CREATED:20260108T165924Z
LAST-MODIFIED:20260108T165924Z
UID:10000583-1773235800-1773243000@le-rebond.net
SUMMARY:Dialogue sur la spiritualité
DESCRIPTION:Sous la forme d’un groupe d’entraide et dans l’esprit du dialogue\, soutenu par un espace sécuritaire et au rythme de chacun·e\, nous échangerons ensemble de notre spiritualité\, définie comme étant l’art de transformer les expériences de vie en occasion de croissance et d’éveil. Si vous portez en vous le besoin de ritualiser un passage de votre vie (par exemple : deuil)\, nous prendrons le temps en groupe de vous accompagner afin de réaliser cet acte sacré selon vos valeurs et vos croyances. \nEn deuxième partie\, nous parlerons du design humain\, concept par lequel on peut trouver la clef de notre évolution\, de notre résilience\, de nos capacités et de nos réalisations. Comme un voyage intérieur\, nous explorerons notre code vivant et notre conscience\, afin de nous éveiller à notre plus haut potentiel.
URL:https://le-rebond.net/evenement/dialogue-spiritualite-hiver-2026/2026-03-11/
LOCATION:Le Rebond\, 6510\, rue de Saint-Vallier\, Montréal\, Québec\, H2S 2P7\, Canada
CATEGORIES:Reprise de pouvoir
ATTACH;FMTTYPE=image/png:https://le-rebond.net/wp-content/uploads/2025/06/Plan-de-travail-3700.png
ORGANIZER;CN="Le Rebond":MAILTO:activites@le-rebond.net
END:VEVENT
BEGIN:VEVENT
DTSTART;TZID=America/Toronto:20260312T133000
DTEND;TZID=America/Toronto:20260312T153000
DTSTAMP:20260423T064109
CREATED:20260108T170729Z
LAST-MODIFIED:20260108T170729Z
UID:10000597-1773322200-1773329400@le-rebond.net
SUMMARY:Berceau de bienveillance
DESCRIPTION:Ensemble\, nous prenons soin de la qualité de nos relations et de notre vie communautaire\, en réfléchissant sur comment préserver la bienveillance et l’entraide entre tout un chacun. Chaque membre qui vit une situation de malaise relationnel lors d’une activité ou d’une présence au Rebond peut venir en parler ouvertement lors du berceau\, et ce\, bien sûr\, dans le respect des personnes concernées. Contrairement au comité d’harmonisation\, qui réfléchit sur nos pratiques\, le Berceau de bienveillance est un groupe de parole où on peut déposer ses émotions et ses ressentis vis-à-vis d’une situation.
URL:https://le-rebond.net/evenement/berceau-bienveillance-hiver-2026/2026-03-12/
LOCATION:Le Rebond\, 6510\, rue de Saint-Vallier\, Montréal\, Québec\, H2S 2P7\, Canada
CATEGORIES:Reprise de pouvoir
ATTACH;FMTTYPE=image/png:https://le-rebond.net/wp-content/uploads/2025/06/Plan-de-travail-42@3x.png
ORGANIZER;CN="Le Rebond":MAILTO:activites@le-rebond.net
END:VEVENT
BEGIN:VEVENT
DTSTART;TZID=America/Toronto:20260312T133000
DTEND;TZID=America/Toronto:20260312T153000
DTSTAMP:20260423T064109
CREATED:20260108T171056Z
LAST-MODIFIED:20260108T171056Z
UID:10000609-1773322200-1773329400@le-rebond.net
SUMMARY:Le temps d'arrêt
DESCRIPTION:L'anxiété correspond à une émotion désagréable qui combine des symptômes physiques et des pensées opprimantes. Beaucoup d'entre nous en souffrent\, mais ne sont pas outillé·es ou accompagné·es pour mieux la contrôler. Afin de vous offrir un moment privilégié pour vous déposer et pour exprimer vos émotions\, nous vous offrons cet espace chaleureux de partage. Pour reprendre la tradition des cafés-jasettes\, des viennoiseries sont offertes aux participant·es de cette activité.
URL:https://le-rebond.net/evenement/temps-arret-hiver-2026/2026-03-12/
LOCATION:Le Rebond\, 6510\, rue de Saint-Vallier\, Montréal\, Québec\, H2S 2P7\, Canada
CATEGORIES:Reprise de pouvoir
ATTACH;FMTTYPE=image/png:https://le-rebond.net/wp-content/uploads/2025/06/Plan-de-travail-44.png
ORGANIZER;CN="Le Rebond":MAILTO:activites@le-rebond.net
END:VEVENT
BEGIN:VEVENT
DTSTART;TZID=America/Toronto:20260313T133000
DTEND;TZID=America/Toronto:20260313T153000
DTSTAMP:20260423T064109
CREATED:20260108T173843Z
LAST-MODIFIED:20260108T173843Z
UID:10000668-1773408600-1773415800@le-rebond.net
SUMMARY:Dialogue autour de la gestion autonome de la médication
DESCRIPTION:La gestion autonome de la médication (GAM) est un mouvement de l’alternatif qui prend chaque année de plus en plus d’ampleur. Selon le RRASMQ\, un des groupes porteurs de cette pratique\, le but est « de permettre à la personne qui prend des médicaments de se rapprocher d’une médication qui lui convient et qui s’intègre dans une démarche plus large d’amélioration\, de mieux-être et de reprise de pouvoir sur sa vie ». Cette approche met l’accent sur l’éducation des personnes qui se médicamentent\, afin de les outiller et de leur donner les connaissances nécessaires à une gestion plus autonome. \nSi ça vous intéresse ou si ça vous intrigue\, on vous invite à venir dialoguer autour de cette thématique en mars prochain.
URL:https://le-rebond.net/evenement/dialogue-gam-hiver-2026/
LOCATION:Le Rebond\, 6510\, rue de Saint-Vallier\, Montréal\, Québec\, H2S 2P7\, Canada
CATEGORIES:Reprise de pouvoir
ATTACH;FMTTYPE=image/png:https://le-rebond.net/wp-content/uploads/2026/01/Plan-de-travail-62@2x.png
ORGANIZER;CN="Le Rebond":MAILTO:activites@le-rebond.net
END:VEVENT
BEGIN:VEVENT
DTSTART;TZID=America/Toronto:20260316T133000
DTEND;TZID=America/Toronto:20260316T153000
DTSTAMP:20260423T064109
CREATED:20260108T165343Z
LAST-MODIFIED:20260108T165343Z
UID:10000562-1773667800-1773675000@le-rebond.net
SUMMARY:Groupe de parole TAC
DESCRIPTION:Ce groupe s’adresse aux personnes qui accumulent des quantités impressionnantes d’objets\, qui souffrent de cet encombrement et qui se sentent isolées de leur entourage en raison de la honte ressentie. Venez partager votre expérience du phénomène avec des personnes qui vivent les mêmes enjeux et qui peuvent comprendre ce que vous ressentez. Cette activité se déroule exclusivement sur Zoom pour l’hiver. \nLe groupe de parole a besoin de relève. Nous aimerions éventuellement ramener l’activité dans nos locaux (en mode hybride) et nous cherchons des personnes intéressées à prendre en charge la co-animation et la co-organisation.
URL:https://le-rebond.net/evenement/groupe-tac-hiver-2026/2026-03-16/
LOCATION:Sur Zoom
CATEGORIES:Reprise de pouvoir
ATTACH;FMTTYPE=image/png:https://le-rebond.net/wp-content/uploads/2025/06/picto-orange-05.png
ORGANIZER;CN="Le Rebond":MAILTO:activites@le-rebond.net
END:VEVENT
BEGIN:VEVENT
DTSTART;TZID=America/Toronto:20260317T133000
DTEND;TZID=America/Toronto:20260317T153000
DTSTAMP:20260423T064109
CREATED:20260108T160014Z
LAST-MODIFIED:20260108T160253Z
UID:10000518-1773754200-1773761400@le-rebond.net
SUMMARY:Acupuncture sociale
DESCRIPTION:Grâce à l’implication de notre très chère acupunctrice\, Viviane Labelle\, nous sommes bien content·es de vous annoncer le retour des séances d’acupuncture régulières pendant toute l’hiver. Dans une atmosphère propice à la guérison\, expérimentez le protocole NADA\, cette méthode standardisée qui se concentre sur des points à oreille\, et ses multiples effets bénéfiques sur le corps et l’esprit. Nous recommandons fortement une participation régulière pour des résultats plus constants!
URL:https://le-rebond.net/evenement/acupuncture-sociale-hiver-2026/2026-03-17/
LOCATION:Le Rebond\, 6510\, rue de Saint-Vallier\, Montréal\, Québec\, H2S 2P7\, Canada
CATEGORIES:Reprise de pouvoir
ATTACH;FMTTYPE=image/png:https://le-rebond.net/wp-content/uploads/2025/06/Plan-de-travail-42@2x-.png
ORGANIZER;CN="Le Rebond":MAILTO:activites@le-rebond.net
END:VEVENT
BEGIN:VEVENT
DTSTART;TZID=America/Toronto:20260318T133000
DTEND;TZID=America/Toronto:20260318T153000
DTSTAMP:20260423T064109
CREATED:20260108T165649Z
LAST-MODIFIED:20260108T165649Z
UID:10000573-1773840600-1773847800@le-rebond.net
SUMMARY:Percepteurs de sens
DESCRIPTION:Si vous entendez des voix ou si vous ressentez d’autres perceptions sensorielles et que vous souhaitez apprendre à mieux vivre avec celles-ci\, venez partager et échanger avec nous. Ce groupe de parole fait partie des piliers du Rebond et met en place un environnement accueillant dans lequel vous pouvez dialoguer librement autour du phénomène\, sans jugement et sans préjudices. Les personnes qui participent pour la première fois au groupe sont invitées à se joindre en deuxième partie\, dès 14h30\, après quoi l’activité est libre d’accès.
URL:https://le-rebond.net/evenement/percepteurs-sens-hiver-2026/2026-03-18/
LOCATION:Le Rebond\, 6510\, rue de Saint-Vallier\, Montréal\, Québec\, H2S 2P7\, Canada
CATEGORIES:Reprise de pouvoir
ATTACH;FMTTYPE=image/png:https://le-rebond.net/wp-content/uploads/2025/06/picto-orange-04.png
ORGANIZER;CN="Le Rebond":MAILTO:activites@le-rebond.net
END:VEVENT
BEGIN:VEVENT
DTSTART;TZID=America/Toronto:20260319T100000
DTEND;TZID=America/Toronto:20260319T120000
DTSTAMP:20260423T064109
CREATED:20260108T171349Z
LAST-MODIFIED:20260108T171349Z
UID:10000618-1773914400-1773921600@le-rebond.net
SUMMARY:Groupe de parole AJS
DESCRIPTION:Si vous êtes sur une autorisation judiciaire de soins et que vous aimeriez échanger sur ce que vous éprouvez face à cette situation\, ou encore si vous voulez mieux vous préparer à reprendre stratégiquement du pouvoir\, venez rejoindre le groupe d'entraide. Les rencontres sont tenues exclusivement de façon virtuelle\, via la plateforme Zoom. L'inscription est demandée et\, dans le but de préserver une bonne culture groupale\, il se peut qu’on contacte les nouvelles personnes intéressées à joindre le groupe pour cibler leurs besoins et leurs intentions.
URL:https://le-rebond.net/evenement/groupe-ajs-hiver-2026/2026-03-19/
LOCATION:Sur Zoom
CATEGORIES:Reprise de pouvoir
ATTACH;FMTTYPE=image/png:https://le-rebond.net/wp-content/uploads/2025/06/Plan-de-travail-29@2x.png
ORGANIZER;CN="Le Rebond":MAILTO:activites@le-rebond.net
END:VEVENT
BEGIN:VEVENT
DTSTART;TZID=America/Toronto:20260324T133000
DTEND;TZID=America/Toronto:20260324T153000
DTSTAMP:20260423T064109
CREATED:20260108T160014Z
LAST-MODIFIED:20260108T160253Z
UID:10000519-1774359000-1774366200@le-rebond.net
SUMMARY:Acupuncture sociale
DESCRIPTION:Grâce à l’implication de notre très chère acupunctrice\, Viviane Labelle\, nous sommes bien content·es de vous annoncer le retour des séances d’acupuncture régulières pendant toute l’hiver. Dans une atmosphère propice à la guérison\, expérimentez le protocole NADA\, cette méthode standardisée qui se concentre sur des points à oreille\, et ses multiples effets bénéfiques sur le corps et l’esprit. Nous recommandons fortement une participation régulière pour des résultats plus constants!
URL:https://le-rebond.net/evenement/acupuncture-sociale-hiver-2026/2026-03-24/
LOCATION:Le Rebond\, 6510\, rue de Saint-Vallier\, Montréal\, Québec\, H2S 2P7\, Canada
CATEGORIES:Reprise de pouvoir
ATTACH;FMTTYPE=image/png:https://le-rebond.net/wp-content/uploads/2025/06/Plan-de-travail-42@2x-.png
ORGANIZER;CN="Le Rebond":MAILTO:activites@le-rebond.net
END:VEVENT
BEGIN:VEVENT
DTSTART;TZID=America/Toronto:20260325T110000
DTEND;TZID=America/Toronto:20260325T130000
DTSTAMP:20260423T064109
CREATED:20260108T170527Z
LAST-MODIFIED:20260108T170527Z
UID:10000591-1774436400-1774443600@le-rebond.net
SUMMARY:Aide informatique
DESCRIPTION:Avec l’aide d’une personne qui connait bien l’univers informatique\, nous vous offrons de nouveau des plages-horaires pour les membres ayant des questionnements sur les ordinateurs\, les tablettes et les téléphones intelligents. L’activité n’est pas un atelier mais plutôt une occasion d’avoir des réponses à vos questions et à vos inquiétudes liées au monde informatique.  Apportez avec vous vos appareils portatifs! \nAfin d’offrir au maximum de personnes intéressées la chance de participer à cette activité\, il est important de bien s’inscrire à l’avance afin qu’on vous attribue une plage-horaire dédiée. Vous aurez entre 30 et 45 minutes par séance.
URL:https://le-rebond.net/evenement/aide-informatique-hiver-2026/2026-03-25/
LOCATION:Le Rebond\, 6510\, rue de Saint-Vallier\, Montréal\, Québec\, H2S 2P7\, Canada
CATEGORIES:Reprise de pouvoir
ATTACH;FMTTYPE=image/png:https://le-rebond.net/wp-content/uploads/2025/05/Ordinateur_Rebond.png
ORGANIZER;CN="Le Rebond":MAILTO:activites@le-rebond.net
END:VEVENT
BEGIN:VEVENT
DTSTART;TZID=America/Toronto:20260325T133000
DTEND;TZID=America/Toronto:20260325T153000
DTSTAMP:20260423T064109
CREATED:20260108T165924Z
LAST-MODIFIED:20260108T165924Z
UID:10000584-1774445400-1774452600@le-rebond.net
SUMMARY:Dialogue sur la spiritualité
DESCRIPTION:Sous la forme d’un groupe d’entraide et dans l’esprit du dialogue\, soutenu par un espace sécuritaire et au rythme de chacun·e\, nous échangerons ensemble de notre spiritualité\, définie comme étant l’art de transformer les expériences de vie en occasion de croissance et d’éveil. Si vous portez en vous le besoin de ritualiser un passage de votre vie (par exemple : deuil)\, nous prendrons le temps en groupe de vous accompagner afin de réaliser cet acte sacré selon vos valeurs et vos croyances. \nEn deuxième partie\, nous parlerons du design humain\, concept par lequel on peut trouver la clef de notre évolution\, de notre résilience\, de nos capacités et de nos réalisations. Comme un voyage intérieur\, nous explorerons notre code vivant et notre conscience\, afin de nous éveiller à notre plus haut potentiel.
URL:https://le-rebond.net/evenement/dialogue-spiritualite-hiver-2026/2026-03-25/
LOCATION:Le Rebond\, 6510\, rue de Saint-Vallier\, Montréal\, Québec\, H2S 2P7\, Canada
CATEGORIES:Reprise de pouvoir
ATTACH;FMTTYPE=image/png:https://le-rebond.net/wp-content/uploads/2025/06/Plan-de-travail-3700.png
ORGANIZER;CN="Le Rebond":MAILTO:activites@le-rebond.net
END:VEVENT
BEGIN:VEVENT
DTSTART;TZID=America/Toronto:20260330T133000
DTEND;TZID=America/Toronto:20260330T153000
DTSTAMP:20260423T064109
CREATED:20260108T165343Z
LAST-MODIFIED:20260108T165343Z
UID:10000563-1774877400-1774884600@le-rebond.net
SUMMARY:Groupe de parole TAC
DESCRIPTION:Ce groupe s’adresse aux personnes qui accumulent des quantités impressionnantes d’objets\, qui souffrent de cet encombrement et qui se sentent isolées de leur entourage en raison de la honte ressentie. Venez partager votre expérience du phénomène avec des personnes qui vivent les mêmes enjeux et qui peuvent comprendre ce que vous ressentez. Cette activité se déroule exclusivement sur Zoom pour l’hiver. \nLe groupe de parole a besoin de relève. Nous aimerions éventuellement ramener l’activité dans nos locaux (en mode hybride) et nous cherchons des personnes intéressées à prendre en charge la co-animation et la co-organisation.
URL:https://le-rebond.net/evenement/groupe-tac-hiver-2026/2026-03-30/
LOCATION:Sur Zoom
CATEGORIES:Reprise de pouvoir
ATTACH;FMTTYPE=image/png:https://le-rebond.net/wp-content/uploads/2025/06/picto-orange-05.png
ORGANIZER;CN="Le Rebond":MAILTO:activites@le-rebond.net
END:VEVENT
BEGIN:VEVENT
DTSTART;TZID=America/Toronto:20260331T133000
DTEND;TZID=America/Toronto:20260331T153000
DTSTAMP:20260423T064109
CREATED:20260108T160014Z
LAST-MODIFIED:20260108T160253Z
UID:10000520-1774963800-1774971000@le-rebond.net
SUMMARY:Acupuncture sociale
DESCRIPTION:Grâce à l’implication de notre très chère acupunctrice\, Viviane Labelle\, nous sommes bien content·es de vous annoncer le retour des séances d’acupuncture régulières pendant toute l’hiver. Dans une atmosphère propice à la guérison\, expérimentez le protocole NADA\, cette méthode standardisée qui se concentre sur des points à oreille\, et ses multiples effets bénéfiques sur le corps et l’esprit. Nous recommandons fortement une participation régulière pour des résultats plus constants!
URL:https://le-rebond.net/evenement/acupuncture-sociale-hiver-2026/2026-03-31/
LOCATION:Le Rebond\, 6510\, rue de Saint-Vallier\, Montréal\, Québec\, H2S 2P7\, Canada
CATEGORIES:Reprise de pouvoir
ATTACH;FMTTYPE=image/png:https://le-rebond.net/wp-content/uploads/2025/06/Plan-de-travail-42@2x-.png
ORGANIZER;CN="Le Rebond":MAILTO:activites@le-rebond.net
END:VEVENT
END:VCALENDAR