BEGIN:VCALENDAR
VERSION:2.0
PRODID:-//Le Rebond - ECPv6.13.2.1//NONSGML v1.0//EN
CALSCALE:GREGORIAN
METHOD:PUBLISH
X-WR-CALNAME:Le Rebond
X-ORIGINAL-URL:https://le-rebond.net
X-WR-CALDESC:Évènements pour Le Rebond
REFRESH-INTERVAL;VALUE=DURATION:PT1H
X-Robots-Tag:noindex
X-PUBLISHED-TTL:PT1H
BEGIN:VTIMEZONE
TZID:America/Toronto
BEGIN:DAYLIGHT
TZOFFSETFROM:-0500
TZOFFSETTO:-0400
TZNAME:EDT
DTSTART:20260308T070000
END:DAYLIGHT
BEGIN:STANDARD
TZOFFSETFROM:-0400
TZOFFSETTO:-0500
TZNAME:EST
DTSTART:20261101T060000
END:STANDARD
END:VTIMEZONE
BEGIN:VEVENT
DTSTART;TZID=America/Toronto:20260423T133000
DTEND;TZID=America/Toronto:20260423T153000
DTSTAMP:20260423T050441
CREATED:20260402T134949Z
LAST-MODIFIED:20260402T134949Z
UID:10000685-1776951000-1776958200@le-rebond.net
SUMMARY:Acupuncture sociale
DESCRIPTION:Grâce à l’implication de notre très chère acupunctrice\, Viviane Labelle\, nous sommes bien content·es de vous annoncer le retour des séances d’acupuncture régulières pendant tout le printemps. Dans un espace propice à la guérison\, expérimentez le protocole NADA\, cette méthode standardisée qui se concentre sur des points à oreille\, et ses multiples effets bénéfiques sur le corps et l’esprit. Nous recommandons fortement une participation régulière pour des résultats plus constants! Notez que l’activité se déroule maintenant les jeudis!
URL:https://le-rebond.net/evenement/acupuncture-print-2026/2026-04-23/
LOCATION:Le Rebond\, 6510\, rue de Saint-Vallier\, Montréal\, Québec\, H2S 2P7\, Canada
CATEGORIES:Reprise de pouvoir
ATTACH;FMTTYPE=image/png:https://le-rebond.net/wp-content/uploads/2025/06/Plan-de-travail-42@2x-.png
ORGANIZER;CN="Le Rebond":MAILTO:activites@le-rebond.net
END:VEVENT
BEGIN:VEVENT
DTSTART;TZID=America/Toronto:20260424T133000
DTEND;TZID=America/Toronto:20260424T153000
DTSTAMP:20260423T050441
CREATED:20260407T143910Z
LAST-MODIFIED:20260407T143910Z
UID:10000857-1777037400-1777044600@le-rebond.net
SUMMARY:Club de lecture vivante
DESCRIPTION:Si la lecture vous intéresse et si vous souhaitez partager vos dernières découvertes avec la communauté\, nous avons une bonne nouvelle à offrir : le club de lecture vivante fait son entrée au Rebond! Venez partager votre amour des livres! \nLa lecture pour vous est difficile? Nous avons une alternative à vous proposer. Dans la belle tradition des livres vivants\, on vous invite à venir raconter votre histoire de vie et à entendre celle des autres. Tout le monde tient en soi un livre dont les expériences sont dignes d’être écoutées.
URL:https://le-rebond.net/evenement/club-lecture-vivante-print-2026/2026-04-24/
LOCATION:Le Rebond\, 6510\, rue de Saint-Vallier\, Montréal\, Québec\, H2S 2P7\, Canada
CATEGORIES:Affirmation artistique,Reprise de pouvoir
ATTACH;FMTTYPE=image/png:https://le-rebond.net/wp-content/uploads/2026/04/Plan-de-travail-71@2x.png
ORGANIZER;CN="Le Rebond":MAILTO:activites@le-rebond.net
END:VEVENT
BEGIN:VEVENT
DTSTART;TZID=America/Toronto:20260427T133000
DTEND;TZID=America/Toronto:20260427T153000
DTSTAMP:20260423T050441
CREATED:20260402T135124Z
LAST-MODIFIED:20260402T135124Z
UID:10000702-1777296600-1777303800@le-rebond.net
SUMMARY:Groupe de parole TAC
DESCRIPTION:Ce groupe s’adresse aux personnes qui accumulent des quantités impressionnantes d’objets\, qui souffrent de cet encombrement et qui se sentent isolées de leur entourage en raison de la honte ressentie. Venez partager votre expérience du phénomène avec des personnes qui vivent les mêmes enjeux et qui peuvent comprendre ce que vous ressentez. Cette activité se déroule exclusivement sur Zoom pour le printemps.
URL:https://le-rebond.net/evenement/groupe-tac-print-2026/2026-04-27/
LOCATION:Sur Zoom
CATEGORIES:Reprise de pouvoir
ATTACH;FMTTYPE=image/png:https://le-rebond.net/wp-content/uploads/2025/06/picto-orange-05.png
ORGANIZER;CN="Le Rebond":MAILTO:activites@le-rebond.net
END:VEVENT
BEGIN:VEVENT
DTSTART;TZID=America/Toronto:20260428T120000
DTEND;TZID=America/Toronto:20260428T130000
DTSTAMP:20260423T050441
CREATED:20260402T140633Z
LAST-MODIFIED:20260402T140633Z
UID:10000729-1777377600-1777381200@le-rebond.net
SUMMARY:Comité d'harmonisation
DESCRIPTION:La vie de groupe peut générer toutes sortes d’inconforts et de malaises. Comment adresser un conflit relationnel? Comment gérer les éléments perturbateurs dans un groupe? Comment les notions de bienveillance et de l’empathie s’appliquent-elles chez nous? Comment prendre soin du « nous »? Si ces questions vous allument\, rejoignez le comité d’harmonisation\, un safe place où on dialogue autour de l’harmonie et sur comment faire du Rebond un lieu accueillant.
URL:https://le-rebond.net/evenement/groupe-harmonie-print-2026/2026-04-28/
LOCATION:Le Rebond\, 6510\, rue de Saint-Vallier\, Montréal\, Québec\, H2S 2P7\, Canada
CATEGORIES:Reprise de pouvoir
ATTACH;FMTTYPE=image/png:https://le-rebond.net/wp-content/uploads/2025/06/Plan-de-travail-35-1.png
ORGANIZER;CN="Le Rebond":MAILTO:activites@le-rebond.net
END:VEVENT
BEGIN:VEVENT
DTSTART;TZID=America/Toronto:20260428T133000
DTEND;TZID=America/Toronto:20260428T153000
DTSTAMP:20260423T050441
CREATED:20260407T150538Z
LAST-MODIFIED:20260407T150538Z
UID:10000871-1777383000-1777390200@le-rebond.net
SUMMARY:Berceau de bienveillance
DESCRIPTION:Ensemble\, nous prenons soin de la qualité de nos relations et de notre vie communautaire\, en réfléchissant sur comment préserver la bienveillance et l’entraide entre tout un chacun. Chaque membre qui vit une situation de malaise relationnel lors d’une activité ou d’une présence au Rebond peut venir en parler ouvertement lors du berceau\, et ce\, bien sûr\, dans le respect des personnes concernées. Contrairement au comité d’harmonisation\, qui réfléchit sur nos pratiques\, le Berceau de bienveillance est un groupe de parole où on peut déposer ses émotions et ses ressentis vis-à-vis d’une situation.
URL:https://le-rebond.net/evenement/berceau-bienveillance-print-2026/2026-04-28/
LOCATION:Le Rebond\, 6510\, rue de Saint-Vallier\, Montréal\, Québec\, H2S 2P7\, Canada
CATEGORIES:Reprise de pouvoir
ATTACH;FMTTYPE=image/png:https://le-rebond.net/wp-content/uploads/2025/06/Plan-de-travail-42@3x.png
ORGANIZER;CN="Le Rebond":MAILTO:activites@le-rebond.net
END:VEVENT
BEGIN:VEVENT
DTSTART;TZID=America/Toronto:20260429T133000
DTEND;TZID=America/Toronto:20260429T153000
DTSTAMP:20260423T050441
CREATED:20260402T150550Z
LAST-MODIFIED:20260402T150550Z
UID:10000752-1777469400-1777476600@le-rebond.net
SUMMARY:Percepteurs de sens
DESCRIPTION:Si vous entendez des voix ou si vous ressentez d’autres perceptions sensorielles et que vous souhaitez apprendre à mieux vivre avec celles-ci\, venez partager et échanger avec nous. Ce groupe de parole fait partie des piliers du Rebond et met en place un environnement accueillant dans lequel vous pouvez dialoguer librement autour du phénomène\, sans jugement et sans préjudices. Les personnes qui participent pour la première fois au groupe sont invitées à se joindre en deuxième partie\, dès 14h30\, après quoi l’activité est libre d’accès.
URL:https://le-rebond.net/evenement/percepteurs-sens-print-2026/2026-04-29/
LOCATION:Le Rebond\, 6510\, rue de Saint-Vallier\, Montréal\, Québec\, H2S 2P7\, Canada
CATEGORIES:Reprise de pouvoir
ATTACH;FMTTYPE=image/png:https://le-rebond.net/wp-content/uploads/2025/06/picto-orange-04.png
ORGANIZER;CN="Le Rebond":MAILTO:activites@le-rebond.net
END:VEVENT
BEGIN:VEVENT
DTSTART;TZID=America/Toronto:20260430T133000
DTEND;TZID=America/Toronto:20260430T153000
DTSTAMP:20260423T050441
CREATED:20260402T134949Z
LAST-MODIFIED:20260402T134949Z
UID:10000686-1777555800-1777563000@le-rebond.net
SUMMARY:Acupuncture sociale
DESCRIPTION:Grâce à l’implication de notre très chère acupunctrice\, Viviane Labelle\, nous sommes bien content·es de vous annoncer le retour des séances d’acupuncture régulières pendant tout le printemps. Dans un espace propice à la guérison\, expérimentez le protocole NADA\, cette méthode standardisée qui se concentre sur des points à oreille\, et ses multiples effets bénéfiques sur le corps et l’esprit. Nous recommandons fortement une participation régulière pour des résultats plus constants! Notez que l’activité se déroule maintenant les jeudis!
URL:https://le-rebond.net/evenement/acupuncture-print-2026/2026-04-30/
LOCATION:Le Rebond\, 6510\, rue de Saint-Vallier\, Montréal\, Québec\, H2S 2P7\, Canada
CATEGORIES:Reprise de pouvoir
ATTACH;FMTTYPE=image/png:https://le-rebond.net/wp-content/uploads/2025/06/Plan-de-travail-42@2x-.png
ORGANIZER;CN="Le Rebond":MAILTO:activites@le-rebond.net
END:VEVENT
END:VCALENDAR