BEGIN:VCALENDAR
VERSION:2.0
PRODID:-//Le Rebond - ECPv6.13.2.1//NONSGML v1.0//EN
CALSCALE:GREGORIAN
METHOD:PUBLISH
X-ORIGINAL-URL:https://le-rebond.net
X-WR-CALDESC:Évènements pour Le Rebond
REFRESH-INTERVAL;VALUE=DURATION:PT1H
X-Robots-Tag:noindex
X-PUBLISHED-TTL:PT1H
BEGIN:VTIMEZONE
TZID:America/Toronto
BEGIN:DAYLIGHT
TZOFFSETFROM:-0500
TZOFFSETTO:-0400
TZNAME:EDT
DTSTART:20250309T070000
END:DAYLIGHT
BEGIN:STANDARD
TZOFFSETFROM:-0400
TZOFFSETTO:-0500
TZNAME:EST
DTSTART:20251102T060000
END:STANDARD
END:VTIMEZONE
BEGIN:VEVENT
DTSTART;TZID=America/Toronto:20250721T133000
DTEND;TZID=America/Toronto:20250721T153000
DTSTAMP:20260424T063610
CREATED:20250929T171325Z
LAST-MODIFIED:20250929T171325Z
UID:10000430-1753104600-1753111800@le-rebond.net
SUMMARY:Groupe de parole TAC
DESCRIPTION:Ce groupe s’adresse aux personnes qui accumulent des quantités impressionnantes d’objets\, qui souffrent de cet encombrement et qui se sentent isolées de leur entourage et de la communauté en raison de la honte ressentie. À l’été\, on ramène officiellement l’activité dans nos locaux! Pour les personnes qui ne peuvent pas se déplacer jusqu’au Rebond\, ne vous inquiétez pas : il sera également possible de participer virtuellement. \nIl est important de noter que cette activité se concentre sur les enjeux émotionnels et expérientiels qui viennent avec le trouble. Nous n’avons pas d’intervenant.es spécialisé.es et nous ne pouvons pas vous aider physiquement avec le désencombrement.
URL:https://le-rebond.net/evenement/groupe-tac-ete-2025/2025-07-21/
LOCATION:Le Rebond\, 6510\, rue de Saint-Vallier\, Montréal\, Québec\, H2S 2P7\, Canada
CATEGORIES:Reprise de pouvoir
ATTACH;FMTTYPE=image/png:https://le-rebond.net/wp-content/uploads/2025/06/picto-orange-05.png
ORGANIZER;CN="Le Rebond":MAILTO:activites@le-rebond.net
END:VEVENT
BEGIN:VEVENT
DTSTART;TZID=America/Toronto:20250722T133000
DTEND;TZID=America/Toronto:20250722T153000
DTSTAMP:20260424T063610
CREATED:20250721T144154Z
LAST-MODIFIED:20250721T144154Z
UID:10000134-1753191000-1753198200@le-rebond.net
SUMMARY:Groupe de parole sur l'harmonie
DESCRIPTION:Il s'agit d'un groupe de parole ouvert et inclusif à tous.tes sur l'harmonie dans les relations du Rebond. Lors de ces moments\, nous partagerons\, pour ceux et celles qui le souhaitent\, des réflexions et des outils pratiques pour développer notre capacité à faire face aux moments plus difficiles en groupe. Nous aimerions développer ensemble des outils pour le respect\, l'harmonie et la bienveillance. Et tout ça\, dans une atmosphère d'entraide!  
URL:https://le-rebond.net/evenement/groupe-harmonisation-ete-2025/
LOCATION:Le Rebond\, 6510\, rue de Saint-Vallier\, Montréal\, Québec\, H2S 2P7\, Canada
CATEGORIES:Reprise de pouvoir
ATTACH;FMTTYPE=image/png:https://le-rebond.net/wp-content/uploads/2025/06/Plan-de-travail-50@2x.png
ORGANIZER;CN="Le Rebond":MAILTO:activites@le-rebond.net
END:VEVENT
BEGIN:VEVENT
DTSTART;TZID=America/Toronto:20250723T133000
DTEND;TZID=America/Toronto:20250723T153000
DTSTAMP:20260424T063610
CREATED:20250710T144608Z
LAST-MODIFIED:20250710T144808Z
UID:10000077-1753277400-1753284600@le-rebond.net
SUMMARY:Percepteurs de sens
DESCRIPTION:Si vous entendez des voix ou si vous ressentez d’autres perceptions de type sensoriel et que vous souhaitez apprendre à mieux vivre avec ce phénomène\, venez partager et échanger avec nous. Ce groupe basé sur l’entraide et sur le partage d’expériences fait partie des activités les plus anciennes du Rebond\, et réunit des personnes sensibles\, empathiques et bienveillantes qui comprennent bien le phénomène et qui prendront le temps de vous écouter. Les personnes qui participent pour la première fois au groupe sont invitées à se joindre en deuxième partie\, dès 14h30\, après quoi l’activité est libre pour celles-ci.
URL:https://le-rebond.net/evenement/percepteurs-sens-ete-2025/2025-07-23/
LOCATION:Le Rebond\, 6510\, rue de Saint-Vallier\, Montréal\, Québec\, H2S 2P7\, Canada
CATEGORIES:Reprise de pouvoir
ATTACH;FMTTYPE=image/png:https://le-rebond.net/wp-content/uploads/2025/06/picto-orange-04.png
ORGANIZER;CN="Le Rebond":MAILTO:activites@le-rebond.net
END:VEVENT
BEGIN:VEVENT
DTSTART;TZID=America/Toronto:20250724T100000
DTEND;TZID=America/Toronto:20250724T120000
DTSTAMP:20260424T063610
CREATED:20250710T150349Z
LAST-MODIFIED:20250710T150349Z
UID:10000090-1753351200-1753358400@le-rebond.net
SUMMARY:Groupe de parole AJS
DESCRIPTION:Si vous êtes sur une autorisation judiciaire de soins et que vous aimeriez échanger sur ce que vous éprouvez face à cette situation\, ou encore si vous voulez mieux vous préparer à reprendre stratégiquement du pouvoir\, venez rejoindre le groupe d'entraide. Les rencontres sont tenues exclusivement de façon virtuelle\, via la plateforme Zoom. L'inscription est demandée\, nous vous enverrons l’invitation Zoom quelques jours avant.
URL:https://le-rebond.net/evenement/groupe-ajs-ete-2025/2025-07-24/
LOCATION:
CATEGORIES:Reprise de pouvoir
ATTACH;FMTTYPE=image/png:https://le-rebond.net/wp-content/uploads/2025/06/Plan-de-travail-29@2x.png
ORGANIZER;CN="Le Rebond":MAILTO:activites@le-rebond.net
END:VEVENT
END:VCALENDAR