BEGIN:VCALENDAR
VERSION:2.0
PRODID:-//Le Rebond - ECPv6.13.2.1//NONSGML v1.0//EN
CALSCALE:GREGORIAN
METHOD:PUBLISH
X-WR-CALNAME:Le Rebond
X-ORIGINAL-URL:https://le-rebond.net
X-WR-CALDESC:Évènements pour Le Rebond
REFRESH-INTERVAL;VALUE=DURATION:PT1H
X-Robots-Tag:noindex
X-PUBLISHED-TTL:PT1H
BEGIN:VTIMEZONE
TZID:America/Toronto
BEGIN:DAYLIGHT
TZOFFSETFROM:-0500
TZOFFSETTO:-0400
TZNAME:EDT
DTSTART:20250309T070000
END:DAYLIGHT
BEGIN:STANDARD
TZOFFSETFROM:-0400
TZOFFSETTO:-0500
TZNAME:EST
DTSTART:20251102T060000
END:STANDARD
END:VTIMEZONE
BEGIN:VEVENT
DTSTART;TZID=America/Toronto:20250819T133000
DTEND;TZID=America/Toronto:20250819T153000
DTSTAMP:20260424T073855
CREATED:20250710T152010Z
LAST-MODIFIED:20250929T150336Z
UID:10000110-1755610200-1755617400@le-rebond.net
SUMMARY:Acupuncture sociale
DESCRIPTION:Grâce à l’implication de notre très chère acupunctrice\, Viviane Labelle\, nous sommes bien content.es de vous annoncer le retour des séances d’acupuncture régulières pendant une bonne partie de l’été. Expérimentez le protocole NADA\, méthode standardisée qui se concentre sur des points à oreille\, et ses multiples effets bénéfiques. Nous recommandons fortement une participation régulière pour des résultats plus constants!
URL:https://le-rebond.net/evenement/acupuncture-sociale-ete-2025/2025-08-19/
LOCATION:Le Rebond\, 6510\, rue de Saint-Vallier\, Montréal\, Québec\, H2S 2P7\, Canada
CATEGORIES:Reprise de pouvoir
ATTACH;FMTTYPE=image/png:https://le-rebond.net/wp-content/uploads/2025/06/Plan-de-travail-42@2x-.png
ORGANIZER;CN="Le Rebond":MAILTO:activites@le-rebond.net
END:VEVENT
BEGIN:VEVENT
DTSTART;TZID=America/Toronto:20250820T133000
DTEND;TZID=America/Toronto:20250820T153000
DTSTAMP:20260424T073855
CREATED:20250710T152817Z
LAST-MODIFIED:20250710T152930Z
UID:10000126-1755696600-1755703800@le-rebond.net
SUMMARY:Dialogue sur la spiritualité
DESCRIPTION:Sous la forme d’un groupe d’entraide et dans l’esprit du dialogue\, soutenu par un espace sécuritaire et au rythme de chacun.e\, nous échangerons ensemble\, de façon philosophique et tout en profondeur\, de diverses questions entourant nos vies spirituelles respectives. Si vous portez en vous le besoin de ritualiser un passage de votre vie (par exemple : deuil\, renouveau)\, nous prendrons le temps en groupe de vous accompagner afin de réaliser cet acte sacré selon vos valeurs et vos croyances.
URL:https://le-rebond.net/evenement/dialogue-spiritualite-ete-2025/
LOCATION:Le Rebond\, 6510\, rue de Saint-Vallier\, Montréal\, Québec\, H2S 2P7\, Canada
CATEGORIES:Reprise de pouvoir
ATTACH;FMTTYPE=image/png:https://le-rebond.net/wp-content/uploads/2025/06/Plan-de-travail-3700.png
ORGANIZER;CN="Le Rebond":MAILTO:activites@le-rebond.net
END:VEVENT
BEGIN:VEVENT
DTSTART;TZID=America/Toronto:20250820T133000
DTEND;TZID=America/Toronto:20250820T153000
DTSTAMP:20260424T073855
CREATED:20250929T171525Z
LAST-MODIFIED:20250929T171525Z
UID:10000439-1755696600-1755703800@le-rebond.net
SUMMARY:Dialogue sur la spiritualité
DESCRIPTION:Sous la forme d’un groupe d’entraide et dans l’esprit du dialogue\, soutenu par un espace sécuritaire et au rythme de chacun.e\, nous échangerons ensemble\, de façon philosophique et tout en profondeur\, de diverses questions entourant nos vies spirituelles respectives. Si vous portez en vous le besoin de ritualiser un passage de votre vie (par exemple : deuil\, renouveau)\, nous prendrons le temps en groupe de vous accompagner afin de réaliser cet acte sacré selon vos valeurs et vos croyances.
URL:https://le-rebond.net/evenement/dialogue-spiritualite-ete-2025-2/2025-08-20/
LOCATION:Le Rebond\, 6510\, rue de Saint-Vallier\, Montréal\, Québec\, H2S 2P7\, Canada
CATEGORIES:Reprise de pouvoir
ATTACH;FMTTYPE=image/png:https://le-rebond.net/wp-content/uploads/2025/06/Plan-de-travail-3700.png
ORGANIZER;CN="Le Rebond":MAILTO:activites@le-rebond.net
END:VEVENT
END:VCALENDAR