BEGIN:VCALENDAR
VERSION:2.0
PRODID:-//Le Rebond - ECPv6.13.2.1//NONSGML v1.0//EN
CALSCALE:GREGORIAN
METHOD:PUBLISH
X-WR-CALNAME:Le Rebond
X-ORIGINAL-URL:https://le-rebond.net
X-WR-CALDESC:Évènements pour Le Rebond
REFRESH-INTERVAL;VALUE=DURATION:PT1H
X-Robots-Tag:noindex
X-PUBLISHED-TTL:PT1H
BEGIN:VTIMEZONE
TZID:America/Toronto
BEGIN:DAYLIGHT
TZOFFSETFROM:-0500
TZOFFSETTO:-0400
TZNAME:EDT
DTSTART:20250309T070000
END:DAYLIGHT
BEGIN:STANDARD
TZOFFSETFROM:-0400
TZOFFSETTO:-0500
TZNAME:EST
DTSTART:20251102T060000
END:STANDARD
END:VTIMEZONE
BEGIN:VEVENT
DTSTART;TZID=America/Toronto:20251020T110000
DTEND;TZID=America/Toronto:20251020T130000
DTSTAMP:20260424T010415
CREATED:20250929T151425Z
LAST-MODIFIED:20250929T152305Z
UID:10000186-1760958000-1760965200@le-rebond.net
SUMMARY:Groupe de parole sur l'harmonie
DESCRIPTION:Dans les derniers mois\, notre communauté a réanimé le comité d’harmonisation du Rebond\, et nous invitons toutes les personnes qui souhaitent prendre soin de la qualité de la vie de groupe à nous rejoindre pour réfléchir\, échanger et partager. Le but de ce comité est d’établir les bases de la vie collective\, de prévenir les enjeux relationnels\, d’appliquer les fondements de notre code de bienveillance et d’adresser les situations qui deviennent dommageables pour notre organisme. Si vous avez envie de participer concrètement au développement de bonnes pratiques en matière de vie de groupe\, c’est par ici!
URL:https://le-rebond.net/evenement/groupe-harmonie-aut-2025/
LOCATION:Le Rebond\, 6510\, rue de Saint-Vallier\, Montréal\, Québec\, H2S 2P7\, Canada
CATEGORIES:Reprise de pouvoir
ATTACH;FMTTYPE=image/png:https://le-rebond.net/wp-content/uploads/2025/06/Plan-de-travail-35-1.png
ORGANIZER;CN="Le Rebond":MAILTO:activites@le-rebond.net
END:VEVENT
BEGIN:VEVENT
DTSTART;TZID=America/Toronto:20251020T133000
DTEND;TZID=America/Toronto:20251020T153000
DTSTAMP:20260424T010415
CREATED:20250710T144158Z
LAST-MODIFIED:20250929T152334Z
UID:10000165-1760967000-1760974200@le-rebond.net
SUMMARY:Groupe de parole TAC
DESCRIPTION:Ce groupe s’adresse aux personnes qui accumulent des quantités impressionnantes d’objets\, qui souffrent de cet encombrement et qui se sentent isolées de leur entourage et de la communauté en raison de la honte ressentie. Venez partager votre expérience du phénomène avec des personnes qui vivent les mêmes enjeux et qui peuvent comprendre ce que vous ressentez. Cette activité se déroule exclusivement sur Zoom pour l’automne. \nIl est important de noter que cette activité se concentre sur les enjeux émotionnels et expérientiels qui viennent avec le trouble. Nous n’avons pas d’intervenant.es spécialisé.es et nous ne pouvons pas vous aider physiquement avec le désencombrement.
URL:https://le-rebond.net/evenement/groupe-tac-aut-2025/2025-10-20/
LOCATION:
CATEGORIES:Reprise de pouvoir
ATTACH;FMTTYPE=image/png:https://le-rebond.net/wp-content/uploads/2025/06/picto-orange-05.png
ORGANIZER;CN="Le Rebond":MAILTO:activites@le-rebond.net
END:VEVENT
BEGIN:VEVENT
DTSTART;TZID=America/Toronto:20251021T133000
DTEND;TZID=America/Toronto:20251021T153000
DTSTAMP:20260424T010415
CREATED:20250929T144907Z
LAST-MODIFIED:20250929T152404Z
UID:10000143-1761053400-1761060600@le-rebond.net
SUMMARY:Acupuncture sociale
DESCRIPTION:Grâce à l’implication de notre très chère acupunctrice\, Viviane Labelle\, nous sommes bien content.es de vous annoncer le retour des séances d’acupuncture régulières pendant toute l’automne. Dans une atmosphère propice à la guérison\, expérimentez le protocole NADA\, cette méthode standardisée qui se concentre sur des points à oreille\, et ses multiples effets bénéfiques sur le corps et l’esprit. Nous recommandons fortement une participation régulière pour des résultats plus constants!
URL:https://le-rebond.net/evenement/acupuncture-sociale-aut-2025/2025-10-21/
LOCATION:Le Rebond\, 6510\, rue de Saint-Vallier\, Montréal\, Québec\, H2S 2P7\, Canada
CATEGORIES:Reprise de pouvoir
ATTACH;FMTTYPE=image/png:https://le-rebond.net/wp-content/uploads/2025/06/Plan-de-travail-42@2x-.png
ORGANIZER;CN="Le Rebond":MAILTO:activites@le-rebond.net
END:VEVENT
BEGIN:VEVENT
DTSTART;TZID=America/Toronto:20251022T133000
DTEND;TZID=America/Toronto:20251022T153000
DTSTAMP:20260424T010415
CREATED:20250929T152713Z
LAST-MODIFIED:20250929T152713Z
UID:10000205-1761139800-1761147000@le-rebond.net
SUMMARY:Percepteurs de sens
DESCRIPTION:Si vous entendez des voix ou si vous ressentez d’autres perceptions de type sensoriel et que vous souhaitez apprendre à mieux vivre avec ce phénomène\, venez partager et échanger avec nous. Ce groupe basé sur l’entraide et sur le partage d’expériences fait partie des activités les plus anciennes du Rebond\, et réunit des personnes sensibles\, empathiques et bienveillantes qui comprennent bien le phénomène et qui prendront le temps de vous écouter. Les personnes qui participent pour la première fois au groupe sont invitées à se joindre en deuxième partie\, dès 14h30\, après quoi l’activité est libre pour celles-ci.
URL:https://le-rebond.net/evenement/percepteurs-sens-aut-2025/2025-10-22/
LOCATION:Le Rebond\, 6510\, rue de Saint-Vallier\, Montréal\, Québec\, H2S 2P7\, Canada
CATEGORIES:Reprise de pouvoir
ATTACH;FMTTYPE=image/png:https://le-rebond.net/wp-content/uploads/2025/06/picto-orange-04.png
ORGANIZER;CN="Le Rebond":MAILTO:activites@le-rebond.net
END:VEVENT
BEGIN:VEVENT
DTSTART;TZID=America/Toronto:20251023T100000
DTEND;TZID=America/Toronto:20251023T120000
DTSTAMP:20260424T010415
CREATED:20250929T162900Z
LAST-MODIFIED:20250929T162900Z
UID:10000247-1761213600-1761220800@le-rebond.net
SUMMARY:Groupe de parole AJS
DESCRIPTION:Si vous êtes sur une autorisation judiciaire de soins et que vous aimeriez échanger sur ce que vous éprouvez face à cette situation\, ou encore si vous voulez mieux vous préparer à reprendre stratégiquement du pouvoir\, venez rejoindre le groupe d'entraide. Les rencontres sont tenues exclusivement de façon virtuelle\, via la plateforme Zoom. L'inscription est demandée\, nous vous enverrons l’invitation Zoom quelques jours avant. \nOn en profite pour mentionner que cette belle initiative de la communauté a été nominée pour le Prix Orange 2025\, qui récompense les projets collectifs qui cherchent à défendre ou à outiller les personnes ayant des enjeux en santé mentale.
URL:https://le-rebond.net/evenement/groupe-ajs-aut-2025/2025-10-23/
LOCATION:
CATEGORIES:Reprise de pouvoir
ATTACH;FMTTYPE=image/png:https://le-rebond.net/wp-content/uploads/2025/06/Plan-de-travail-29@2x.png
ORGANIZER;CN="Le Rebond":MAILTO:activites@le-rebond.net
END:VEVENT
BEGIN:VEVENT
DTSTART;TZID=America/Toronto:20251025T133000
DTEND;TZID=America/Toronto:20251025T140000
DTSTAMP:20260424T010415
CREATED:20250929T165822Z
LAST-MODIFIED:20250929T171711Z
UID:10000300-1761399000-1761400800@le-rebond.net
SUMMARY:Comité d'organisation : Halloween
DESCRIPTION:Pour participer à des célébrations qui vous ressemblent et qui vous intéressent\, pourquoi ne pas participer directement à l’organisation de celles-ci? Les comités d’organisation vous permettent de mettre la main à la pâte et l’épaule à la roue pour mettre en place des événements très courus au sein de notre communauté. Vos idées permettent à l’équipe de travail d’orienter ses priorités et de tenir des célébrations inoubliables. Toutes les idées sont les bienvenues! C’est également pendant ces comités qu’on décorera les locaux!
URL:https://le-rebond.net/evenement/comite-halloween-aut-2025/2025-10-25/
LOCATION:Le Rebond\, 6510\, rue de Saint-Vallier\, Montréal\, Québec\, H2S 2P7\, Canada
CATEGORIES:Activités spéciales,Reprise de pouvoir
ATTACH;FMTTYPE=image/png:https://le-rebond.net/wp-content/uploads/2025/09/Plan-de-travail-41@2x-.png
ORGANIZER;CN="Le Rebond":MAILTO:activites@le-rebond.net
END:VEVENT
END:VCALENDAR