BEGIN:VCALENDAR
VERSION:2.0
PRODID:-//Le Rebond - ECPv6.13.2.1//NONSGML v1.0//EN
CALSCALE:GREGORIAN
METHOD:PUBLISH
X-ORIGINAL-URL:https://le-rebond.net
X-WR-CALDESC:Évènements pour Le Rebond
REFRESH-INTERVAL;VALUE=DURATION:PT1H
X-Robots-Tag:noindex
X-PUBLISHED-TTL:PT1H
BEGIN:VTIMEZONE
TZID:America/Toronto
BEGIN:DAYLIGHT
TZOFFSETFROM:-0500
TZOFFSETTO:-0400
TZNAME:EDT
DTSTART:20250309T070000
END:DAYLIGHT
BEGIN:STANDARD
TZOFFSETFROM:-0400
TZOFFSETTO:-0500
TZNAME:EST
DTSTART:20251102T060000
END:STANDARD
END:VTIMEZONE
BEGIN:VEVENT
DTSTART;TZID=America/Toronto:20251111T133000
DTEND;TZID=America/Toronto:20251111T153000
DTSTAMP:20260424T010628
CREATED:20250929T144907Z
LAST-MODIFIED:20250929T152404Z
UID:10000146-1762867800-1762875000@le-rebond.net
SUMMARY:Acupuncture sociale
DESCRIPTION:Grâce à l’implication de notre très chère acupunctrice\, Viviane Labelle\, nous sommes bien content.es de vous annoncer le retour des séances d’acupuncture régulières pendant toute l’automne. Dans une atmosphère propice à la guérison\, expérimentez le protocole NADA\, cette méthode standardisée qui se concentre sur des points à oreille\, et ses multiples effets bénéfiques sur le corps et l’esprit. Nous recommandons fortement une participation régulière pour des résultats plus constants!
URL:https://le-rebond.net/evenement/acupuncture-sociale-aut-2025/2025-11-11/
LOCATION:Le Rebond\, 6510\, rue de Saint-Vallier\, Montréal\, Québec\, H2S 2P7\, Canada
CATEGORIES:Reprise de pouvoir
ATTACH;FMTTYPE=image/png:https://le-rebond.net/wp-content/uploads/2025/06/Plan-de-travail-42@2x-.png
ORGANIZER;CN="Le Rebond":MAILTO:activites@le-rebond.net
END:VEVENT
BEGIN:VEVENT
DTSTART;TZID=America/Toronto:20251112T100000
DTEND;TZID=America/Toronto:20251112T120000
DTSTAMP:20260424T010628
CREATED:20250929T145211Z
LAST-MODIFIED:20250929T152442Z
UID:10000181-1762941600-1762948800@le-rebond.net
SUMMARY:Dialogue sur la spiritualité
DESCRIPTION:Sous la forme d’un groupe d’entraide et dans l’esprit du dialogue\, soutenu par un espace sécuritaire et au rythme de chacun.e\, nous échangerons ensemble de notre spiritualité\, défini comme étant l’art de transformer les expériences de vie en occasion de croissance et d’éveil. Si vous portez en vous le besoin de ritualiser un passage de votre vie (par exemple : deuil\, renouveau)\, nous prendrons le temps en groupe de vous accompagner afin de réaliser cet acte sacré selon vos valeurs et vos croyances. \nEn deuxième partie\, nos parlerons du design humain\, concept par lequel on peut trouver la clef de notre évolution\, de notre résilience\, de nos capacités et de nos réalisations. Comme un voyage intérieur\, nous explorerons notre code vivant et notre conscience\, afin de nous éveiller à notre plus haut potentiel.
URL:https://le-rebond.net/evenement/dialogue-spiritualite-aut-2025/2025-11-12/
LOCATION:Le Rebond\, 6510\, rue de Saint-Vallier\, Montréal\, Québec\, H2S 2P7\, Canada
CATEGORIES:Reprise de pouvoir
ATTACH;FMTTYPE=image/png:https://le-rebond.net/wp-content/uploads/2025/06/Plan-de-travail-3700.png
ORGANIZER;CN="Le Rebond":MAILTO:activites@le-rebond.net
END:VEVENT
BEGIN:VEVENT
DTSTART;TZID=America/Toronto:20251112T133000
DTEND;TZID=America/Toronto:20251112T153000
DTSTAMP:20260424T010628
CREATED:20250929T152924Z
LAST-MODIFIED:20250929T152948Z
UID:10000209-1762954200-1762961400@le-rebond.net
SUMMARY:Rencontre de programmation
DESCRIPTION:La rencontre de programmation est la plaque tournante du Rebond. En effet\, c’est lors de cette réunion en groupe que nous déterminons les prochaines programmations et les prochaines activités. Pour cette rencontre\, nous préparerons la saison d’hiver 2026\, soit les mois de janvier à mars. Vous voulez proposer une nouvelle activité\, une sortie en ville ou ailleurs? C’est ici!
URL:https://le-rebond.net/evenement/rencontre-programmation-aut-2025/
LOCATION:Le Rebond\, 6510\, rue de Saint-Vallier\, Montréal\, Québec\, H2S 2P7\, Canada
CATEGORIES:Activités spéciales,Reprise de pouvoir
ATTACH;FMTTYPE=image/png:https://le-rebond.net/wp-content/uploads/2025/06/picto-orange-08.png
ORGANIZER;CN="Le Rebond":MAILTO:activites@le-rebond.net
END:VEVENT
BEGIN:VEVENT
DTSTART;TZID=America/Toronto:20251113T110000
DTEND;TZID=America/Toronto:20251113T130000
DTSTAMP:20260424T010628
CREATED:20250929T155009Z
LAST-MODIFIED:20250929T155009Z
UID:10000224-1763031600-1763038800@le-rebond.net
SUMMARY:Atelier sur les finances personnelles
DESCRIPTION:Dans une société capitaliste\, l’argent et les finances sont souvent au cœur de nos préoccupations. Quelle est la règle à respecter pour faire un bon budget? Qu’est-ce qui fait qu’une personne est riche? Quel serait le revenu moyen annuel pour qu’une personne puisse vivre décemment? Que veut dire « curatelle »\, « tutelle » ou « faillite »? Si vous vous posez ces questions\, cet atelier interactif basé sur le partage d’expériences et de connaissances pourrait vous aider à mieux naviguer vos finances.
URL:https://le-rebond.net/evenement/atelier-finances-personnelles-aut-2025/2025-11-13/
LOCATION:Le Rebond\, 6510\, rue de Saint-Vallier\, Montréal\, Québec\, H2S 2P7\, Canada
CATEGORIES:Reprise de pouvoir
ATTACH;FMTTYPE=image/png:https://le-rebond.net/wp-content/uploads/2025/09/Plan-de-travail-57@2x.png
ORGANIZER;CN="Le Rebond":MAILTO:activites@le-rebond.net
END:VEVENT
BEGIN:VEVENT
DTSTART;TZID=America/Toronto:20251113T133000
DTEND;TZID=America/Toronto:20251113T153000
DTSTAMP:20260424T010628
CREATED:20250929T161442Z
LAST-MODIFIED:20250929T161442Z
UID:10000230-1763040600-1763047800@le-rebond.net
SUMMARY:Le temps d'arrêt
DESCRIPTION:L'anxiété correspond à une émotion désagréable qui combine des symptômes physiques et des pensées opprimantes. Beaucoup d'entre nous en souffrent\, mais ne sont pas outillé.es ou accompagné.es pour mieux la contrôler. Afin de vous offrir un moment privilégié pour vous déposer et pour exprimer vos émotions\, nous vous offrons cet espace sécurisant ou sécuritaire. Pour reprendre la tradition des cafés-jasettes\, des viennoiseries sont offertes aux participant.es de cette activité.
URL:https://le-rebond.net/evenement/temps-arret-aut-2025/2025-11-13/
LOCATION:Le Rebond\, 6510\, rue de Saint-Vallier\, Montréal\, Québec\, H2S 2P7\, Canada
CATEGORIES:Reprise de pouvoir
ATTACH;FMTTYPE=image/png:https://le-rebond.net/wp-content/uploads/2025/06/Plan-de-travail-44.png
ORGANIZER;CN="Le Rebond":MAILTO:activites@le-rebond.net
END:VEVENT
END:VCALENDAR