BEGIN:VCALENDAR
VERSION:2.0
PRODID:-//Le Rebond - ECPv6.13.2.1//NONSGML v1.0//EN
CALSCALE:GREGORIAN
METHOD:PUBLISH
X-ORIGINAL-URL:https://le-rebond.net
X-WR-CALDESC:Évènements pour Le Rebond
REFRESH-INTERVAL;VALUE=DURATION:PT1H
X-Robots-Tag:noindex
X-PUBLISHED-TTL:PT1H
BEGIN:VTIMEZONE
TZID:America/Toronto
BEGIN:DAYLIGHT
TZOFFSETFROM:-0500
TZOFFSETTO:-0400
TZNAME:EDT
DTSTART:20250309T070000
END:DAYLIGHT
BEGIN:STANDARD
TZOFFSETFROM:-0400
TZOFFSETTO:-0500
TZNAME:EST
DTSTART:20251102T060000
END:STANDARD
END:VTIMEZONE
BEGIN:VEVENT
DTSTART;TZID=America/Toronto:20251202T133000
DTEND;TZID=America/Toronto:20251202T153000
DTSTAMP:20260423T202714
CREATED:20250929T144907Z
LAST-MODIFIED:20250929T152404Z
UID:10000149-1764682200-1764689400@le-rebond.net
SUMMARY:Acupuncture sociale
DESCRIPTION:Grâce à l’implication de notre très chère acupunctrice\, Viviane Labelle\, nous sommes bien content.es de vous annoncer le retour des séances d’acupuncture régulières pendant toute l’automne. Dans une atmosphère propice à la guérison\, expérimentez le protocole NADA\, cette méthode standardisée qui se concentre sur des points à oreille\, et ses multiples effets bénéfiques sur le corps et l’esprit. Nous recommandons fortement une participation régulière pour des résultats plus constants!
URL:https://le-rebond.net/evenement/acupuncture-sociale-aut-2025/2025-12-02/
LOCATION:Le Rebond\, 6510\, rue de Saint-Vallier\, Montréal\, Québec\, H2S 2P7\, Canada
CATEGORIES:Reprise de pouvoir
ATTACH;FMTTYPE=image/png:https://le-rebond.net/wp-content/uploads/2025/06/Plan-de-travail-42@2x-.png
ORGANIZER;CN="Le Rebond":MAILTO:activites@le-rebond.net
END:VEVENT
BEGIN:VEVENT
DTSTART;TZID=America/Toronto:20251203T133000
DTEND;TZID=America/Toronto:20251203T153000
DTSTAMP:20260423T202714
CREATED:20250929T152713Z
LAST-MODIFIED:20250929T152713Z
UID:10000208-1764768600-1764775800@le-rebond.net
SUMMARY:Percepteurs de sens
DESCRIPTION:Si vous entendez des voix ou si vous ressentez d’autres perceptions de type sensoriel et que vous souhaitez apprendre à mieux vivre avec ce phénomène\, venez partager et échanger avec nous. Ce groupe basé sur l’entraide et sur le partage d’expériences fait partie des activités les plus anciennes du Rebond\, et réunit des personnes sensibles\, empathiques et bienveillantes qui comprennent bien le phénomène et qui prendront le temps de vous écouter. Les personnes qui participent pour la première fois au groupe sont invitées à se joindre en deuxième partie\, dès 14h30\, après quoi l’activité est libre pour celles-ci.
URL:https://le-rebond.net/evenement/percepteurs-sens-aut-2025/2025-12-03/
LOCATION:Le Rebond\, 6510\, rue de Saint-Vallier\, Montréal\, Québec\, H2S 2P7\, Canada
CATEGORIES:Reprise de pouvoir
ATTACH;FMTTYPE=image/png:https://le-rebond.net/wp-content/uploads/2025/06/picto-orange-04.png
ORGANIZER;CN="Le Rebond":MAILTO:activites@le-rebond.net
END:VEVENT
BEGIN:VEVENT
DTSTART;TZID=America/Toronto:20251204T100000
DTEND;TZID=America/Toronto:20251204T120000
DTSTAMP:20260423T202714
CREATED:20250929T162900Z
LAST-MODIFIED:20250929T162900Z
UID:10000250-1764842400-1764849600@le-rebond.net
SUMMARY:Groupe de parole AJS
DESCRIPTION:Si vous êtes sur une autorisation judiciaire de soins et que vous aimeriez échanger sur ce que vous éprouvez face à cette situation\, ou encore si vous voulez mieux vous préparer à reprendre stratégiquement du pouvoir\, venez rejoindre le groupe d'entraide. Les rencontres sont tenues exclusivement de façon virtuelle\, via la plateforme Zoom. L'inscription est demandée\, nous vous enverrons l’invitation Zoom quelques jours avant. \nOn en profite pour mentionner que cette belle initiative de la communauté a été nominée pour le Prix Orange 2025\, qui récompense les projets collectifs qui cherchent à défendre ou à outiller les personnes ayant des enjeux en santé mentale.
URL:https://le-rebond.net/evenement/groupe-ajs-aut-2025/2025-12-04/
LOCATION:
CATEGORIES:Reprise de pouvoir
ATTACH;FMTTYPE=image/png:https://le-rebond.net/wp-content/uploads/2025/06/Plan-de-travail-29@2x.png
ORGANIZER;CN="Le Rebond":MAILTO:activites@le-rebond.net
END:VEVENT
BEGIN:VEVENT
DTSTART;TZID=America/Toronto:20251204T133000
DTEND;TZID=America/Toronto:20251204T153000
DTSTAMP:20260423T202714
CREATED:20250929T161442Z
LAST-MODIFIED:20250929T161442Z
UID:10000231-1764855000-1764862200@le-rebond.net
SUMMARY:Le temps d'arrêt
DESCRIPTION:L'anxiété correspond à une émotion désagréable qui combine des symptômes physiques et des pensées opprimantes. Beaucoup d'entre nous en souffrent\, mais ne sont pas outillé.es ou accompagné.es pour mieux la contrôler. Afin de vous offrir un moment privilégié pour vous déposer et pour exprimer vos émotions\, nous vous offrons cet espace sécurisant ou sécuritaire. Pour reprendre la tradition des cafés-jasettes\, des viennoiseries sont offertes aux participant.es de cette activité.
URL:https://le-rebond.net/evenement/temps-arret-aut-2025/2025-12-04/
LOCATION:Le Rebond\, 6510\, rue de Saint-Vallier\, Montréal\, Québec\, H2S 2P7\, Canada
CATEGORIES:Reprise de pouvoir
ATTACH;FMTTYPE=image/png:https://le-rebond.net/wp-content/uploads/2025/06/Plan-de-travail-44.png
ORGANIZER;CN="Le Rebond":MAILTO:activites@le-rebond.net
END:VEVENT
BEGIN:VEVENT
DTSTART;TZID=America/Toronto:20251206T133000
DTEND;TZID=America/Toronto:20251206T140000
DTSTAMP:20260423T202714
CREATED:20250929T170030Z
LAST-MODIFIED:20250929T170030Z
UID:10000361-1765027800-1765029600@le-rebond.net
SUMMARY:Comité d'organisation : Célébration de fin d'année
DESCRIPTION:Pour participer à des célébrations qui vous ressemblent et qui vous intéressent\, pourquoi ne pas participer directement à l’organisation de celles-ci? Les comités d’organisation vous permettent de mettre la main à la pâte et l’épaule à la roue pour mettre en place des événements très courus au sein de notre communauté. Vos idées permettent à l’équipe de travail d’orienter ses priorités et de tenir des célébrations inoubliables. Toutes les idées sont les bienvenues! C’est également pendant ces comités qu’on décorera les locaux!
URL:https://le-rebond.net/evenement/comite-fin-annee-aut-2025/2025-12-06/
LOCATION:Le Rebond\, 6510\, rue de Saint-Vallier\, Montréal\, Québec\, H2S 2P7\, Canada
CATEGORIES:Activités spéciales,Reprise de pouvoir
ATTACH;FMTTYPE=image/png:https://le-rebond.net/wp-content/uploads/2025/06/Plan-de-travail-40@2x-.png
ORGANIZER;CN="Le Rebond":MAILTO:activites@le-rebond.net
END:VEVENT
END:VCALENDAR