BEGIN:VCALENDAR
VERSION:2.0
PRODID:-//Le Rebond - ECPv6.13.2.1//NONSGML v1.0//EN
CALSCALE:GREGORIAN
METHOD:PUBLISH
X-WR-CALNAME:Le Rebond
X-ORIGINAL-URL:https://le-rebond.net
X-WR-CALDESC:Évènements pour Le Rebond
REFRESH-INTERVAL;VALUE=DURATION:PT1H
X-Robots-Tag:noindex
X-PUBLISHED-TTL:PT1H
BEGIN:VTIMEZONE
TZID:America/Toronto
BEGIN:DAYLIGHT
TZOFFSETFROM:-0500
TZOFFSETTO:-0400
TZNAME:EDT
DTSTART:20260308T070000
END:DAYLIGHT
BEGIN:STANDARD
TZOFFSETFROM:-0400
TZOFFSETTO:-0500
TZNAME:EST
DTSTART:20261101T060000
END:STANDARD
END:VTIMEZONE
BEGIN:VEVENT
DTSTART;TZID=America/Toronto:20260113T133000
DTEND;TZID=America/Toronto:20260113T153000
DTSTAMP:20260423T152904
CREATED:20260108T160014Z
LAST-MODIFIED:20260108T160253Z
UID:10000509-1768311000-1768318200@le-rebond.net
SUMMARY:Acupuncture sociale
DESCRIPTION:Grâce à l’implication de notre très chère acupunctrice\, Viviane Labelle\, nous sommes bien content·es de vous annoncer le retour des séances d’acupuncture régulières pendant toute l’hiver. Dans une atmosphère propice à la guérison\, expérimentez le protocole NADA\, cette méthode standardisée qui se concentre sur des points à oreille\, et ses multiples effets bénéfiques sur le corps et l’esprit. Nous recommandons fortement une participation régulière pour des résultats plus constants!
URL:https://le-rebond.net/evenement/acupuncture-sociale-hiver-2026/2026-01-13/
LOCATION:Le Rebond\, 6510\, rue de Saint-Vallier\, Montréal\, Québec\, H2S 2P7\, Canada
CATEGORIES:Reprise de pouvoir
ATTACH;FMTTYPE=image/png:https://le-rebond.net/wp-content/uploads/2025/06/Plan-de-travail-42@2x-.png
ORGANIZER;CN="Le Rebond":MAILTO:activites@le-rebond.net
END:VEVENT
BEGIN:VEVENT
DTSTART;TZID=America/Toronto:20260114T133000
DTEND;TZID=America/Toronto:20260114T153000
DTSTAMP:20260423T152904
CREATED:20260108T165924Z
LAST-MODIFIED:20260108T165924Z
UID:10000579-1768397400-1768404600@le-rebond.net
SUMMARY:Dialogue sur la spiritualité
DESCRIPTION:Sous la forme d’un groupe d’entraide et dans l’esprit du dialogue\, soutenu par un espace sécuritaire et au rythme de chacun·e\, nous échangerons ensemble de notre spiritualité\, définie comme étant l’art de transformer les expériences de vie en occasion de croissance et d’éveil. Si vous portez en vous le besoin de ritualiser un passage de votre vie (par exemple : deuil)\, nous prendrons le temps en groupe de vous accompagner afin de réaliser cet acte sacré selon vos valeurs et vos croyances. \nEn deuxième partie\, nous parlerons du design humain\, concept par lequel on peut trouver la clef de notre évolution\, de notre résilience\, de nos capacités et de nos réalisations. Comme un voyage intérieur\, nous explorerons notre code vivant et notre conscience\, afin de nous éveiller à notre plus haut potentiel.
URL:https://le-rebond.net/evenement/dialogue-spiritualite-hiver-2026/2026-01-14/
LOCATION:Le Rebond\, 6510\, rue de Saint-Vallier\, Montréal\, Québec\, H2S 2P7\, Canada
CATEGORIES:Reprise de pouvoir
ATTACH;FMTTYPE=image/png:https://le-rebond.net/wp-content/uploads/2025/06/Plan-de-travail-3700.png
ORGANIZER;CN="Le Rebond":MAILTO:activites@le-rebond.net
END:VEVENT
BEGIN:VEVENT
DTSTART;TZID=America/Toronto:20260115T133000
DTEND;TZID=America/Toronto:20260115T153000
DTSTAMP:20260423T152904
CREATED:20260108T171349Z
LAST-MODIFIED:20260108T171349Z
UID:10000614-1768483800-1768491000@le-rebond.net
SUMMARY:Groupe de parole AJS
DESCRIPTION:Si vous êtes sur une autorisation judiciaire de soins et que vous aimeriez échanger sur ce que vous éprouvez face à cette situation\, ou encore si vous voulez mieux vous préparer à reprendre stratégiquement du pouvoir\, venez rejoindre le groupe d'entraide. Les rencontres sont tenues exclusivement de façon virtuelle\, via la plateforme Zoom. L'inscription est demandée et\, dans le but de préserver une bonne culture groupale\, il se peut qu’on contacte les nouvelles personnes intéressées à joindre le groupe pour cibler leurs besoins et leurs intentions.
URL:https://le-rebond.net/evenement/groupe-ajs-hiver-2026/2026-01-15/
LOCATION:Sur Zoom
CATEGORIES:Reprise de pouvoir
ATTACH;FMTTYPE=image/png:https://le-rebond.net/wp-content/uploads/2025/06/Plan-de-travail-29@2x.png
ORGANIZER;CN="Le Rebond":MAILTO:activites@le-rebond.net
END:VEVENT
END:VCALENDAR