BEGIN:VCALENDAR
VERSION:2.0
PRODID:-//Le Rebond - ECPv6.13.2.1//NONSGML v1.0//EN
CALSCALE:GREGORIAN
METHOD:PUBLISH
X-WR-CALNAME:Le Rebond
X-ORIGINAL-URL:https://le-rebond.net
X-WR-CALDESC:Évènements pour Le Rebond
REFRESH-INTERVAL;VALUE=DURATION:PT1H
X-Robots-Tag:noindex
X-PUBLISHED-TTL:PT1H
BEGIN:VTIMEZONE
TZID:America/Toronto
BEGIN:DAYLIGHT
TZOFFSETFROM:-0500
TZOFFSETTO:-0400
TZNAME:EDT
DTSTART:20260308T070000
END:DAYLIGHT
BEGIN:STANDARD
TZOFFSETFROM:-0400
TZOFFSETTO:-0500
TZNAME:EST
DTSTART:20261101T060000
END:STANDARD
END:VTIMEZONE
BEGIN:VEVENT
DTSTART;TZID=America/Toronto:20260511T133000
DTEND;TZID=America/Toronto:20260511T153000
DTSTAMP:20260423T094157
CREATED:20260402T135124Z
LAST-MODIFIED:20260402T135124Z
UID:10000703-1778506200-1778513400@le-rebond.net
SUMMARY:Groupe de parole TAC
DESCRIPTION:Ce groupe s’adresse aux personnes qui accumulent des quantités impressionnantes d’objets\, qui souffrent de cet encombrement et qui se sentent isolées de leur entourage en raison de la honte ressentie. Venez partager votre expérience du phénomène avec des personnes qui vivent les mêmes enjeux et qui peuvent comprendre ce que vous ressentez. Cette activité se déroule exclusivement sur Zoom pour le printemps.
URL:https://le-rebond.net/evenement/groupe-tac-print-2026/2026-05-11/
LOCATION:Sur Zoom
CATEGORIES:Reprise de pouvoir
ATTACH;FMTTYPE=image/png:https://le-rebond.net/wp-content/uploads/2025/06/picto-orange-05.png
ORGANIZER;CN="Le Rebond":MAILTO:activites@le-rebond.net
END:VEVENT
BEGIN:VEVENT
DTSTART;TZID=America/Toronto:20260511T133000
DTEND;TZID=America/Toronto:20260511T153000
DTSTAMP:20260423T094157
CREATED:20260407T142856Z
LAST-MODIFIED:20260407T142856Z
UID:10000815-1778506200-1778513400@le-rebond.net
SUMMARY:La p'tite jasette
DESCRIPTION:Le temps d’arrêt devient la petite jasette\, groupe de parole dans lequel on ne parle plus seulement d’anxiété\, mais de tous les tracas quotidiens qui font obstacle à la quiétude. Afin de vous offrir un moment privilégié pour vous déposer et pour exprimer vos émotions\, nous réinaugurons cet espace chaleureux de partage. Pour reprendre la tradition des cafés-jasettes\, des viennoiseries sont offertes aux participant·es de cette activité.
URL:https://le-rebond.net/evenement/ptite-jasette-print-2026/2026-05-11/
LOCATION:Le Rebond\, 6510\, rue de Saint-Vallier\, Montréal\, Québec\, H2S 2P7\, Canada
CATEGORIES:Reprise de pouvoir,Socialisation
ATTACH;FMTTYPE=image/png:https://le-rebond.net/wp-content/uploads/2025/06/Plan-de-travail-44.png
ORGANIZER;CN="Le Rebond":MAILTO:activites@le-rebond.net
END:VEVENT
BEGIN:VEVENT
DTSTART;TZID=America/Toronto:20260513T063000
DTEND;TZID=America/Toronto:20260513T083000
DTSTAMP:20260423T094157
CREATED:20260407T150330Z
LAST-MODIFIED:20260407T150330Z
UID:10000866-1778653800-1778661000@le-rebond.net
SUMMARY:Groupe de parole AJS
DESCRIPTION:Si vous êtes sur une autorisation judiciaire de soins et que vous aimeriez échanger sur ce que vous éprouvez face à cette situation\, ou encore si vous voulez mieux vous préparer à reprendre stratégiquement du pouvoir\, venez rejoindre le groupe d'entraide. Les rencontres sont tenues exclusivement de façon virtuelle\, via la plateforme Zoom. L'inscription est demandée et\, dans le but de préserver une bonne culture groupale\, il se peut qu’on contacte les nouvelles personnes intéressées à joindre le groupe pour cibler leurs besoins et leurs intentions.
URL:https://le-rebond.net/evenement/groupe-ajs-print-2026/2026-05-13/
LOCATION:Sur Zoom
CATEGORIES:Reprise de pouvoir
ATTACH;FMTTYPE=image/png:https://le-rebond.net/wp-content/uploads/2025/06/Plan-de-travail-29@2x.png
ORGANIZER;CN="Le Rebond":MAILTO:activites@le-rebond.net
END:VEVENT
BEGIN:VEVENT
DTSTART;TZID=America/Toronto:20260513T133000
DTEND;TZID=America/Toronto:20260513T153000
DTSTAMP:20260423T094157
CREATED:20260402T150550Z
LAST-MODIFIED:20260402T150550Z
UID:10000753-1778679000-1778686200@le-rebond.net
SUMMARY:Percepteurs de sens
DESCRIPTION:Si vous entendez des voix ou si vous ressentez d’autres perceptions sensorielles et que vous souhaitez apprendre à mieux vivre avec celles-ci\, venez partager et échanger avec nous. Ce groupe de parole fait partie des piliers du Rebond et met en place un environnement accueillant dans lequel vous pouvez dialoguer librement autour du phénomène\, sans jugement et sans préjudices. Les personnes qui participent pour la première fois au groupe sont invitées à se joindre en deuxième partie\, dès 14h30\, après quoi l’activité est libre d’accès.
URL:https://le-rebond.net/evenement/percepteurs-sens-print-2026/2026-05-13/
LOCATION:Le Rebond\, 6510\, rue de Saint-Vallier\, Montréal\, Québec\, H2S 2P7\, Canada
CATEGORIES:Reprise de pouvoir
ATTACH;FMTTYPE=image/png:https://le-rebond.net/wp-content/uploads/2025/06/picto-orange-04.png
ORGANIZER;CN="Le Rebond":MAILTO:activites@le-rebond.net
END:VEVENT
BEGIN:VEVENT
DTSTART;TZID=America/Toronto:20260514T133000
DTEND;TZID=America/Toronto:20260514T153000
DTSTAMP:20260423T094157
CREATED:20260402T134949Z
LAST-MODIFIED:20260402T134949Z
UID:10000688-1778765400-1778772600@le-rebond.net
SUMMARY:Acupuncture sociale
DESCRIPTION:Grâce à l’implication de notre très chère acupunctrice\, Viviane Labelle\, nous sommes bien content·es de vous annoncer le retour des séances d’acupuncture régulières pendant tout le printemps. Dans un espace propice à la guérison\, expérimentez le protocole NADA\, cette méthode standardisée qui se concentre sur des points à oreille\, et ses multiples effets bénéfiques sur le corps et l’esprit. Nous recommandons fortement une participation régulière pour des résultats plus constants! Notez que l’activité se déroule maintenant les jeudis!
URL:https://le-rebond.net/evenement/acupuncture-print-2026/2026-05-14/
LOCATION:Le Rebond\, 6510\, rue de Saint-Vallier\, Montréal\, Québec\, H2S 2P7\, Canada
CATEGORIES:Reprise de pouvoir
ATTACH;FMTTYPE=image/png:https://le-rebond.net/wp-content/uploads/2025/06/Plan-de-travail-42@2x-.png
ORGANIZER;CN="Le Rebond":MAILTO:activites@le-rebond.net
END:VEVENT
END:VCALENDAR