BEGIN:VCALENDAR
VERSION:2.0
PRODID:-//Le Rebond - ECPv6.13.2.1//NONSGML v1.0//EN
CALSCALE:GREGORIAN
METHOD:PUBLISH
X-WR-CALNAME:Le Rebond
X-ORIGINAL-URL:https://le-rebond.net
X-WR-CALDESC:Évènements pour Le Rebond
REFRESH-INTERVAL;VALUE=DURATION:PT1H
X-Robots-Tag:noindex
X-PUBLISHED-TTL:PT1H
BEGIN:VTIMEZONE
TZID:America/Toronto
BEGIN:DAYLIGHT
TZOFFSETFROM:-0500
TZOFFSETTO:-0400
TZNAME:EDT
DTSTART:20260308T070000
END:DAYLIGHT
BEGIN:STANDARD
TZOFFSETFROM:-0400
TZOFFSETTO:-0500
TZNAME:EST
DTSTART:20261101T060000
END:STANDARD
END:VTIMEZONE
BEGIN:VEVENT
DTSTART;TZID=America/Toronto:20260603T133000
DTEND;TZID=America/Toronto:20260603T153000
DTSTAMP:20260423T125030
CREATED:20260402T150336Z
LAST-MODIFIED:20260402T150336Z
UID:10000742-1780493400-1780500600@le-rebond.net
SUMMARY:Dialogue sur la spiritualité
DESCRIPTION:Sous la forme d’un groupe d’entraide et dans l’esprit du dialogue\, soutenu par un espace sécuritaire et au rythme de chacun·e\, nous échangerons ensemble de notre spiritualité\, définie comme étant l’art de transformer les expériences de vie en occasion de croissance et d’éveil. Si vous portez en vous le besoin de ritualiser un passage de votre vie (par exemple : deuil)\, nous prendrons le temps en groupe de vous accompagner afin de réaliser cet acte sacré selon vos valeurs et vos croyances. \nNotez que la rencontre du 6 mai se déroule de 10h00 à midi.
URL:https://le-rebond.net/evenement/dialogue-spiritualite-print-2026/2026-06-03/
LOCATION:Le Rebond\, 6510\, rue de Saint-Vallier\, Montréal\, Québec\, H2S 2P7\, Canada
CATEGORIES:Reprise de pouvoir
ATTACH;FMTTYPE=image/png:https://le-rebond.net/wp-content/uploads/2025/06/Plan-de-travail-3700.png
ORGANIZER;CN="Le Rebond":MAILTO:activites@le-rebond.net
END:VEVENT
BEGIN:VEVENT
DTSTART;TZID=America/Toronto:20260604T133000
DTEND;TZID=America/Toronto:20260604T153000
DTSTAMP:20260423T125030
CREATED:20260402T134949Z
LAST-MODIFIED:20260402T134949Z
UID:10000691-1780579800-1780587000@le-rebond.net
SUMMARY:Acupuncture sociale
DESCRIPTION:Grâce à l’implication de notre très chère acupunctrice\, Viviane Labelle\, nous sommes bien content·es de vous annoncer le retour des séances d’acupuncture régulières pendant tout le printemps. Dans un espace propice à la guérison\, expérimentez le protocole NADA\, cette méthode standardisée qui se concentre sur des points à oreille\, et ses multiples effets bénéfiques sur le corps et l’esprit. Nous recommandons fortement une participation régulière pour des résultats plus constants! Notez que l’activité se déroule maintenant les jeudis!
URL:https://le-rebond.net/evenement/acupuncture-print-2026/2026-06-04/
LOCATION:Le Rebond\, 6510\, rue de Saint-Vallier\, Montréal\, Québec\, H2S 2P7\, Canada
CATEGORIES:Reprise de pouvoir
ATTACH;FMTTYPE=image/png:https://le-rebond.net/wp-content/uploads/2025/06/Plan-de-travail-42@2x-.png
ORGANIZER;CN="Le Rebond":MAILTO:activites@le-rebond.net
END:VEVENT
END:VCALENDAR