BEGIN:VCALENDAR
VERSION:2.0
PRODID:-//Le Rebond - ECPv6.13.2.1//NONSGML v1.0//EN
CALSCALE:GREGORIAN
METHOD:PUBLISH
X-ORIGINAL-URL:https://le-rebond.net
X-WR-CALDESC:Évènements pour Le Rebond
REFRESH-INTERVAL;VALUE=DURATION:PT1H
X-Robots-Tag:noindex
X-PUBLISHED-TTL:PT1H
BEGIN:VTIMEZONE
TZID:America/Toronto
BEGIN:DAYLIGHT
TZOFFSETFROM:-0500
TZOFFSETTO:-0400
TZNAME:EDT
DTSTART:20260308T070000
END:DAYLIGHT
BEGIN:STANDARD
TZOFFSETFROM:-0400
TZOFFSETTO:-0500
TZNAME:EST
DTSTART:20261101T060000
END:STANDARD
END:VTIMEZONE
BEGIN:VEVENT
DTSTART;TZID=America/Toronto:20260608T133000
DTEND;TZID=America/Toronto:20260608T153000
DTSTAMP:20260423T131130
CREATED:20260402T135124Z
LAST-MODIFIED:20260402T135124Z
UID:10000705-1780925400-1780932600@le-rebond.net
SUMMARY:Groupe de parole TAC
DESCRIPTION:Ce groupe s’adresse aux personnes qui accumulent des quantités impressionnantes d’objets\, qui souffrent de cet encombrement et qui se sentent isolées de leur entourage en raison de la honte ressentie. Venez partager votre expérience du phénomène avec des personnes qui vivent les mêmes enjeux et qui peuvent comprendre ce que vous ressentez. Cette activité se déroule exclusivement sur Zoom pour le printemps.
URL:https://le-rebond.net/evenement/groupe-tac-print-2026/2026-06-08/
LOCATION:Sur Zoom
CATEGORIES:Reprise de pouvoir
ATTACH;FMTTYPE=image/png:https://le-rebond.net/wp-content/uploads/2025/06/picto-orange-05.png
ORGANIZER;CN="Le Rebond":MAILTO:activites@le-rebond.net
END:VEVENT
BEGIN:VEVENT
DTSTART;TZID=America/Toronto:20260610T133000
DTEND;TZID=America/Toronto:20260610T153000
DTSTAMP:20260423T131130
CREATED:20260402T150550Z
LAST-MODIFIED:20260402T150550Z
UID:10000755-1781098200-1781105400@le-rebond.net
SUMMARY:Percepteurs de sens
DESCRIPTION:Si vous entendez des voix ou si vous ressentez d’autres perceptions sensorielles et que vous souhaitez apprendre à mieux vivre avec celles-ci\, venez partager et échanger avec nous. Ce groupe de parole fait partie des piliers du Rebond et met en place un environnement accueillant dans lequel vous pouvez dialoguer librement autour du phénomène\, sans jugement et sans préjudices. Les personnes qui participent pour la première fois au groupe sont invitées à se joindre en deuxième partie\, dès 14h30\, après quoi l’activité est libre d’accès.
URL:https://le-rebond.net/evenement/percepteurs-sens-print-2026/2026-06-10/
LOCATION:Le Rebond\, 6510\, rue de Saint-Vallier\, Montréal\, Québec\, H2S 2P7\, Canada
CATEGORIES:Reprise de pouvoir
ATTACH;FMTTYPE=image/png:https://le-rebond.net/wp-content/uploads/2025/06/picto-orange-04.png
ORGANIZER;CN="Le Rebond":MAILTO:activites@le-rebond.net
END:VEVENT
BEGIN:VEVENT
DTSTART;TZID=America/Toronto:20260611T133000
DTEND;TZID=America/Toronto:20260611T153000
DTSTAMP:20260423T131131
CREATED:20260402T134949Z
LAST-MODIFIED:20260402T134949Z
UID:10000692-1781184600-1781191800@le-rebond.net
SUMMARY:Acupuncture sociale
DESCRIPTION:Grâce à l’implication de notre très chère acupunctrice\, Viviane Labelle\, nous sommes bien content·es de vous annoncer le retour des séances d’acupuncture régulières pendant tout le printemps. Dans un espace propice à la guérison\, expérimentez le protocole NADA\, cette méthode standardisée qui se concentre sur des points à oreille\, et ses multiples effets bénéfiques sur le corps et l’esprit. Nous recommandons fortement une participation régulière pour des résultats plus constants! Notez que l’activité se déroule maintenant les jeudis!
URL:https://le-rebond.net/evenement/acupuncture-print-2026/2026-06-11/
LOCATION:Le Rebond\, 6510\, rue de Saint-Vallier\, Montréal\, Québec\, H2S 2P7\, Canada
CATEGORIES:Reprise de pouvoir
ATTACH;FMTTYPE=image/png:https://le-rebond.net/wp-content/uploads/2025/06/Plan-de-travail-42@2x-.png
ORGANIZER;CN="Le Rebond":MAILTO:activites@le-rebond.net
END:VEVENT
BEGIN:VEVENT
DTSTART;TZID=America/Toronto:20260612T133000
DTEND;TZID=America/Toronto:20260612T153000
DTSTAMP:20260423T131131
CREATED:20260407T143910Z
LAST-MODIFIED:20260407T143910Z
UID:10000859-1781271000-1781278200@le-rebond.net
SUMMARY:Club de lecture vivante
DESCRIPTION:Si la lecture vous intéresse et si vous souhaitez partager vos dernières découvertes avec la communauté\, nous avons une bonne nouvelle à offrir : le club de lecture vivante fait son entrée au Rebond! Venez partager votre amour des livres! \nLa lecture pour vous est difficile? Nous avons une alternative à vous proposer. Dans la belle tradition des livres vivants\, on vous invite à venir raconter votre histoire de vie et à entendre celle des autres. Tout le monde tient en soi un livre dont les expériences sont dignes d’être écoutées.
URL:https://le-rebond.net/evenement/club-lecture-vivante-print-2026/2026-06-12/
LOCATION:Le Rebond\, 6510\, rue de Saint-Vallier\, Montréal\, Québec\, H2S 2P7\, Canada
CATEGORIES:Affirmation artistique,Reprise de pouvoir
ATTACH;FMTTYPE=image/png:https://le-rebond.net/wp-content/uploads/2026/04/Plan-de-travail-71@2x.png
ORGANIZER;CN="Le Rebond":MAILTO:activites@le-rebond.net
END:VEVENT
END:VCALENDAR