BEGIN:VCALENDAR
VERSION:2.0
PRODID:-//Le Rebond - ECPv6.13.2.1//NONSGML v1.0//EN
CALSCALE:GREGORIAN
METHOD:PUBLISH
X-WR-CALNAME:Le Rebond
X-ORIGINAL-URL:https://le-rebond.net
X-WR-CALDESC:Évènements pour Le Rebond
REFRESH-INTERVAL;VALUE=DURATION:PT1H
X-Robots-Tag:noindex
X-PUBLISHED-TTL:PT1H
BEGIN:VTIMEZONE
TZID:America/Toronto
BEGIN:DAYLIGHT
TZOFFSETFROM:-0500
TZOFFSETTO:-0400
TZNAME:EDT
DTSTART:20260308T070000
END:DAYLIGHT
BEGIN:STANDARD
TZOFFSETFROM:-0400
TZOFFSETTO:-0500
TZNAME:EST
DTSTART:20261101T060000
END:STANDARD
END:VTIMEZONE
BEGIN:VEVENT
DTSTART;TZID=America/Toronto:20260420T133000
DTEND;TZID=America/Toronto:20260420T153000
DTSTAMP:20260423T105505
CREATED:20260407T142856Z
LAST-MODIFIED:20260407T142856Z
UID:10000814-1776691800-1776699000@le-rebond.net
SUMMARY:La p'tite jasette
DESCRIPTION:Le temps d’arrêt devient la petite jasette\, groupe de parole dans lequel on ne parle plus seulement d’anxiété\, mais de tous les tracas quotidiens qui font obstacle à la quiétude. Afin de vous offrir un moment privilégié pour vous déposer et pour exprimer vos émotions\, nous réinaugurons cet espace chaleureux de partage. Pour reprendre la tradition des cafés-jasettes\, des viennoiseries sont offertes aux participant·es de cette activité.
URL:https://le-rebond.net/evenement/ptite-jasette-print-2026/2026-04-20/
LOCATION:Le Rebond\, 6510\, rue de Saint-Vallier\, Montréal\, Québec\, H2S 2P7\, Canada
CATEGORIES:Reprise de pouvoir,Socialisation
ATTACH;FMTTYPE=image/png:https://le-rebond.net/wp-content/uploads/2025/06/Plan-de-travail-44.png
ORGANIZER;CN="Le Rebond":MAILTO:activites@le-rebond.net
END:VEVENT
BEGIN:VEVENT
DTSTART;TZID=America/Toronto:20260422T133000
DTEND;TZID=America/Toronto:20260422T153000
DTSTAMP:20260423T105505
CREATED:20260402T150336Z
LAST-MODIFIED:20260402T150336Z
UID:10000739-1776864600-1776871800@le-rebond.net
SUMMARY:Dialogue sur la spiritualité
DESCRIPTION:Sous la forme d’un groupe d’entraide et dans l’esprit du dialogue\, soutenu par un espace sécuritaire et au rythme de chacun·e\, nous échangerons ensemble de notre spiritualité\, définie comme étant l’art de transformer les expériences de vie en occasion de croissance et d’éveil. Si vous portez en vous le besoin de ritualiser un passage de votre vie (par exemple : deuil)\, nous prendrons le temps en groupe de vous accompagner afin de réaliser cet acte sacré selon vos valeurs et vos croyances. \nNotez que la rencontre du 6 mai se déroule de 10h00 à midi.
URL:https://le-rebond.net/evenement/dialogue-spiritualite-print-2026/2026-04-22/
LOCATION:Le Rebond\, 6510\, rue de Saint-Vallier\, Montréal\, Québec\, H2S 2P7\, Canada
CATEGORIES:Reprise de pouvoir
ATTACH;FMTTYPE=image/png:https://le-rebond.net/wp-content/uploads/2025/06/Plan-de-travail-3700.png
ORGANIZER;CN="Le Rebond":MAILTO:activites@le-rebond.net
END:VEVENT
BEGIN:VEVENT
DTSTART;TZID=America/Toronto:20260423T133000
DTEND;TZID=America/Toronto:20260423T153000
DTSTAMP:20260423T105505
CREATED:20260402T134949Z
LAST-MODIFIED:20260402T134949Z
UID:10000685-1776951000-1776958200@le-rebond.net
SUMMARY:Acupuncture sociale
DESCRIPTION:Grâce à l’implication de notre très chère acupunctrice\, Viviane Labelle\, nous sommes bien content·es de vous annoncer le retour des séances d’acupuncture régulières pendant tout le printemps. Dans un espace propice à la guérison\, expérimentez le protocole NADA\, cette méthode standardisée qui se concentre sur des points à oreille\, et ses multiples effets bénéfiques sur le corps et l’esprit. Nous recommandons fortement une participation régulière pour des résultats plus constants! Notez que l’activité se déroule maintenant les jeudis!
URL:https://le-rebond.net/evenement/acupuncture-print-2026/2026-04-23/
LOCATION:Le Rebond\, 6510\, rue de Saint-Vallier\, Montréal\, Québec\, H2S 2P7\, Canada
CATEGORIES:Reprise de pouvoir
ATTACH;FMTTYPE=image/png:https://le-rebond.net/wp-content/uploads/2025/06/Plan-de-travail-42@2x-.png
ORGANIZER;CN="Le Rebond":MAILTO:activites@le-rebond.net
END:VEVENT
BEGIN:VEVENT
DTSTART;TZID=America/Toronto:20260424T133000
DTEND;TZID=America/Toronto:20260424T153000
DTSTAMP:20260423T105505
CREATED:20260407T143910Z
LAST-MODIFIED:20260407T143910Z
UID:10000857-1777037400-1777044600@le-rebond.net
SUMMARY:Club de lecture vivante
DESCRIPTION:Si la lecture vous intéresse et si vous souhaitez partager vos dernières découvertes avec la communauté\, nous avons une bonne nouvelle à offrir : le club de lecture vivante fait son entrée au Rebond! Venez partager votre amour des livres! \nLa lecture pour vous est difficile? Nous avons une alternative à vous proposer. Dans la belle tradition des livres vivants\, on vous invite à venir raconter votre histoire de vie et à entendre celle des autres. Tout le monde tient en soi un livre dont les expériences sont dignes d’être écoutées.
URL:https://le-rebond.net/evenement/club-lecture-vivante-print-2026/2026-04-24/
LOCATION:Le Rebond\, 6510\, rue de Saint-Vallier\, Montréal\, Québec\, H2S 2P7\, Canada
CATEGORIES:Affirmation artistique,Reprise de pouvoir
ATTACH;FMTTYPE=image/png:https://le-rebond.net/wp-content/uploads/2026/04/Plan-de-travail-71@2x.png
ORGANIZER;CN="Le Rebond":MAILTO:activites@le-rebond.net
END:VEVENT
END:VCALENDAR