BEGIN:VCALENDAR
VERSION:2.0
PRODID:-//Le Rebond - ECPv6.13.2.1//NONSGML v1.0//EN
CALSCALE:GREGORIAN
METHOD:PUBLISH
X-ORIGINAL-URL:https://le-rebond.net
X-WR-CALDESC:Évènements pour Le Rebond
REFRESH-INTERVAL;VALUE=DURATION:PT1H
X-Robots-Tag:noindex
X-PUBLISHED-TTL:PT1H
BEGIN:VTIMEZONE
TZID:America/Toronto
BEGIN:DAYLIGHT
TZOFFSETFROM:-0500
TZOFFSETTO:-0400
TZNAME:EDT
DTSTART:20250309T070000
END:DAYLIGHT
BEGIN:STANDARD
TZOFFSETFROM:-0400
TZOFFSETTO:-0500
TZNAME:EST
DTSTART:20251102T060000
END:STANDARD
END:VTIMEZONE
BEGIN:VEVENT
DTSTART;TZID=America/Toronto:20250922T133000
DTEND;TZID=America/Toronto:20250922T153000
DTSTAMP:20260421T085551
CREATED:20250929T171325Z
LAST-MODIFIED:20250929T171325Z
UID:10000433-1758547800-1758555000@le-rebond.net
SUMMARY:Groupe de parole TAC
DESCRIPTION:Ce groupe s’adresse aux personnes qui accumulent des quantités impressionnantes d’objets\, qui souffrent de cet encombrement et qui se sentent isolées de leur entourage et de la communauté en raison de la honte ressentie. À l’été\, on ramène officiellement l’activité dans nos locaux! Pour les personnes qui ne peuvent pas se déplacer jusqu’au Rebond\, ne vous inquiétez pas : il sera également possible de participer virtuellement. \nIl est important de noter que cette activité se concentre sur les enjeux émotionnels et expérientiels qui viennent avec le trouble. Nous n’avons pas d’intervenant.es spécialisé.es et nous ne pouvons pas vous aider physiquement avec le désencombrement.
URL:https://le-rebond.net/evenement/groupe-tac-ete-2025/2025-09-22/
LOCATION:Le Rebond\, 6510\, rue de Saint-Vallier\, Montréal\, Québec\, H2S 2P7\, Canada
CATEGORIES:Reprise de pouvoir
ATTACH;FMTTYPE=image/png:https://le-rebond.net/wp-content/uploads/2025/06/picto-orange-05.png
ORGANIZER;CN="Le Rebond":MAILTO:activites@le-rebond.net
END:VEVENT
BEGIN:VEVENT
DTSTART;TZID=America/Toronto:20250923T133000
DTEND;TZID=America/Toronto:20250923T153000
DTSTAMP:20260421T085551
CREATED:20250710T152010Z
LAST-MODIFIED:20250929T150336Z
UID:10000178-1758634200-1758641400@le-rebond.net
SUMMARY:Acupuncture sociale
DESCRIPTION:Grâce à l’implication de notre très chère acupunctrice\, Viviane Labelle\, nous sommes bien content.es de vous annoncer le retour des séances d’acupuncture régulières pendant une bonne partie de l’été. Expérimentez le protocole NADA\, méthode standardisée qui se concentre sur des points à oreille\, et ses multiples effets bénéfiques. Nous recommandons fortement une participation régulière pour des résultats plus constants!
URL:https://le-rebond.net/evenement/acupuncture-sociale-ete-2025/2025-09-23/
LOCATION:Le Rebond\, 6510\, rue de Saint-Vallier\, Montréal\, Québec\, H2S 2P7\, Canada
CATEGORIES:Reprise de pouvoir
ATTACH;FMTTYPE=image/png:https://le-rebond.net/wp-content/uploads/2025/06/Plan-de-travail-42@2x-.png
ORGANIZER;CN="Le Rebond":MAILTO:activites@le-rebond.net
END:VEVENT
BEGIN:VEVENT
DTSTART;TZID=America/Toronto:20250924T110000
DTEND;TZID=America/Toronto:20250924T130000
DTSTAMP:20260421T085551
CREATED:20250528T175031Z
LAST-MODIFIED:20250710T135350Z
UID:10000005-1758711600-1758718800@le-rebond.net
SUMMARY:Aide informatique
DESCRIPTION:Avec l’aide d’une personne qui connait bien l’univers informatique\, nous vous offrons de nouveau des plages-horaires pour les membres ayant des questionnements sur les ordinateurs\, les tablettes et les téléphones intelligents. L’activité n’est pas un atelier mais plutôt une occasion d’avoir des réponses à vos questions et à vos inquiétudes liées au monde informatique.  Apportez avec vous vos appareils portatifs!
URL:https://le-rebond.net/evenement/aide-informatique-ete-2025/2025-09-24/
LOCATION:Le Rebond\, 6510\, rue de Saint-Vallier\, Montréal\, Québec\, H2S 2P7\, Canada
CATEGORIES:Reprise de pouvoir
ATTACH;FMTTYPE=image/png:https://le-rebond.net/wp-content/uploads/2025/05/Ordinateur_Rebond.png
ORGANIZER;CN="Le Rebond":MAILTO:activites@le-rebond.net
END:VEVENT
BEGIN:VEVENT
DTSTART;TZID=America/Toronto:20250925T100000
DTEND;TZID=America/Toronto:20250925T120000
DTSTAMP:20260421T085551
CREATED:20250710T150349Z
LAST-MODIFIED:20250710T150349Z
UID:10000092-1758794400-1758801600@le-rebond.net
SUMMARY:Groupe de parole AJS
DESCRIPTION:Si vous êtes sur une autorisation judiciaire de soins et que vous aimeriez échanger sur ce que vous éprouvez face à cette situation\, ou encore si vous voulez mieux vous préparer à reprendre stratégiquement du pouvoir\, venez rejoindre le groupe d'entraide. Les rencontres sont tenues exclusivement de façon virtuelle\, via la plateforme Zoom. L'inscription est demandée\, nous vous enverrons l’invitation Zoom quelques jours avant.
URL:https://le-rebond.net/evenement/groupe-ajs-ete-2025/2025-09-25/
LOCATION:
CATEGORIES:Reprise de pouvoir
ATTACH;FMTTYPE=image/png:https://le-rebond.net/wp-content/uploads/2025/06/Plan-de-travail-29@2x.png
ORGANIZER;CN="Le Rebond":MAILTO:activites@le-rebond.net
END:VEVENT
BEGIN:VEVENT
DTSTART;TZID=America/Toronto:20250925T180000
DTEND;TZID=America/Toronto:20250925T200000
DTSTAMP:20260421T085551
CREATED:20250710T151755Z
LAST-MODIFIED:20250710T151755Z
UID:10000104-1758823200-1758830400@le-rebond.net
SUMMARY:Sortie nocturne de bowling
DESCRIPTION:On poursuit cette sortie sociale très appréciée de nos membres! Le repas est également fourni à tous.tes les parti-cipant.es. Afin de ne pas empiéter sur l’organisation des co-animatrices\, la ponctualité est bien importante pour la tenue de ces sorties. Veuillez noter qu’un petit groupe part toujours du Rebond\, environ vingt minutes avant l’heure de l’activité. \nDans le but de diversifier les personnes qui participent à cette sortie\, toute inscription n’est pas signe de confirmation! Notre facilitatrice aux activités vous confirmera votre présence par téléphone ou par courriel la semaine de l’activité.
URL:https://le-rebond.net/evenement/bowling-ete-2025/2025-09-25/
LOCATION:Quilles G Plus\, 920\, rue Saint-Zotique Est\, Montréal\, Québec\, H2S 1M8\, Canada
CATEGORIES:Socialisation
ATTACH;FMTTYPE=image/png:https://le-rebond.net/wp-content/uploads/2025/06/Plan-de-travail-36-1.png
ORGANIZER;CN="Le Rebond":MAILTO:activites@le-rebond.net
END:VEVENT
BEGIN:VEVENT
DTSTART;TZID=America/Toronto:20250926T133000
DTEND;TZID=America/Toronto:20250926T153000
DTSTAMP:20260421T085551
CREATED:20250710T145051Z
LAST-MODIFIED:20250710T151500Z
UID:10000098-1758893400-1758900600@le-rebond.net
SUMMARY:Bingo du Rebond
DESCRIPTION:Le bingo du Rebond est de retour! Venez tenter votre chance dans l’une des trois éditions estivales de l’activité\, et peut-être pourrez-vous repartir avec l’un de nos nombreux prix (qui sont généralement des prix qui vous permettent de profiter de la vie de quartier)! On tient aussi à rappeler que cette activité est à la base une belle occasion de se divertir et de briser l’isolement\, et que les prix ne sont qu’un extra à ces belles rencontres! \nAfin d’encourager une participation et des chances équitables à tout le monde\, les personnes qui veulent courir la chance de repartir avec le grand prix doivent être présentes dès le début de l’activité (soit 13h30) pour participer au jeu final.
URL:https://le-rebond.net/evenement/bingo-ete-2025/2025-09-26/
LOCATION:Le Rebond\, 6510\, rue de Saint-Vallier\, Montréal\, Québec\, H2S 2P7\, Canada
CATEGORIES:Socialisation
ATTACH;FMTTYPE=image/png:https://le-rebond.net/wp-content/uploads/2025/06/picto-orange-12.png
ORGANIZER;CN="Le Rebond":MAILTO:activites@le-rebond.net
END:VEVENT
BEGIN:VEVENT
DTSTART;TZID=America/Toronto:20250927T133000
DTEND;TZID=America/Toronto:20250927T153000
DTSTAMP:20260421T085551
CREATED:20250710T140506Z
LAST-MODIFIED:20250710T140803Z
UID:10000027-1758979800-1758987000@le-rebond.net
SUMMARY:Samedi d'être ensemble
DESCRIPTION:À la demande générale\, l’activité Samedi d’être ensemble fait son retour une fois de plus pendant l’été. Tous les samedis après-midi\, venez nous retrouver dans nos locaux afin d’échanger et de briser l’isolement. Vous pouvez profiter de ce moment privilégié en groupe pour passer du temps en bonne compagnie! Café fourni\, jeux de société et collations sur place! Cet été\, ce sera également un bon moment pour prendre soin des bacs à fleurs de l’organisme\, qui sont situés à l’intersection Beaubien et St-Denis. Pouces verts ou non\, on vous attend!
URL:https://le-rebond.net/evenement/samedi-ensemble-ete-2025/2025-09-27/
LOCATION:Le Rebond\, 6510\, rue de Saint-Vallier\, Montréal\, Québec\, H2S 2P7\, Canada
CATEGORIES:Socialisation
ATTACH;FMTTYPE=image/png:https://le-rebond.net/wp-content/uploads/2025/06/picto-orange-15.png
ORGANIZER;CN="Le Rebond":MAILTO:activites@le-rebond.net
END:VEVENT
END:VCALENDAR